BEGIN:VCALENDAR
VERSION:2.0
PRODID:-//Crossroads Bible Church - ECPv6.15.20//NONSGML v1.0//EN
CALSCALE:GREGORIAN
METHOD:PUBLISH
X-WR-CALNAME:Crossroads Bible Church
X-ORIGINAL-URL:https://crossroads-bible.org
X-WR-CALDESC:Events for Crossroads Bible Church
REFRESH-INTERVAL;VALUE=DURATION:PT1H
X-Robots-Tag:noindex
X-PUBLISHED-TTL:PT1H
BEGIN:VTIMEZONE
TZID:America/Detroit
BEGIN:DAYLIGHT
TZOFFSETFROM:-0500
TZOFFSETTO:-0400
TZNAME:EDT
DTSTART:20230312T070000
END:DAYLIGHT
BEGIN:STANDARD
TZOFFSETFROM:-0400
TZOFFSETTO:-0500
TZNAME:EST
DTSTART:20231105T060000
END:STANDARD
BEGIN:DAYLIGHT
TZOFFSETFROM:-0500
TZOFFSETTO:-0400
TZNAME:EDT
DTSTART:20240310T070000
END:DAYLIGHT
BEGIN:STANDARD
TZOFFSETFROM:-0400
TZOFFSETTO:-0500
TZNAME:EST
DTSTART:20241103T060000
END:STANDARD
BEGIN:DAYLIGHT
TZOFFSETFROM:-0500
TZOFFSETTO:-0400
TZNAME:EDT
DTSTART:20250309T070000
END:DAYLIGHT
BEGIN:STANDARD
TZOFFSETFROM:-0400
TZOFFSETTO:-0500
TZNAME:EST
DTSTART:20251102T060000
END:STANDARD
END:VTIMEZONE
BEGIN:VEVENT
DTSTART;TZID=America/Detroit:20240310T084500
DTEND;TZID=America/Detroit:20240310T103000
DTSTAMP:20260425T093538
CREATED:20240131T155644Z
LAST-MODIFIED:20240219T184607Z
UID:10005841-1710060300-1710066600@crossroads-bible.org
SUMMARY:Elective | Intro to the Bible
DESCRIPTION:In this 3-week elective\, we will explore some essentials for understanding and interpreting the Bible (What is inspiration? Is the Bible authoritative? Why all the translations?)\, some pitfalls to avoid (What does it mean to take the Bible literally? Why does context matter?)\, and some hot topics we often avoid or wrestle with (Is the Bible pro-violence? Pro-slavery? Anti-women?). We will focus on understanding the overarching movements of the Bible as a key to making sense of where the whole Story is headed. \nSign Up Here
URL:https://crossroads-bible.org/event/elective-intro-to-the-bible/2024-03-10/
LOCATION:Crossroads Upper Room North\, 800 Scribner Ave NW\, Grand Rapids\, MI\, 49504\, United States
CATEGORIES:Classes,Community Care
ATTACH;FMTTYPE=image/jpeg:https://crossroads-bible.org/wp-content/uploads/2024/01/aaron-burden-7oM_bBvpEes-unsplash-scaled.jpg
ORGANIZER;CN="Tryg Veker":MAILTO:tveker@crossroads-bible.org
END:VEVENT
BEGIN:VEVENT
DTSTART;TZID=America/Detroit:20240310T084500
DTEND;TZID=America/Detroit:20240310T121500
DTSTAMP:20260425T093538
CREATED:20230908T223453Z
LAST-MODIFIED:20240229T180211Z
UID:10001111-1710060300-1710072900@crossroads-bible.org
SUMMARY:Sunday Gatherings
DESCRIPTION:We gather each Sunday at 8:45 & 10:45am in our building at 800 Scribner for worship\, time in the Word\, and fellowship with the rest of our Crossroads family. We also have a livestream available every Sunday at 8:45 AM. \nSermon Series Reading Schedule\nJanuary 21 | Genesis 14 \nJanuary 28 | Genesis 15 \nFebruary 4 | Genesis 16 & 21 \nFebruary 11 | Genesis 17 \nFebruary 18 | Genesis 18:1-15 \nFebruary 25 | Genesis 18:16-33  \nMarch 3 | Genesis 19 \nMarch 10 | Genesis 22 \nMarch 17 | Genesis 24 \nMarch 24 | Genesis 23&25 \nMarch 31 | Easter Sunday  \nApril 7 | Genesis 26 \nApril 14 | Genesis 27:1-28:9 \nApril 21 | Genesis 28:10-22 \nApril 28 | Genesis 29:1-30 \nMay 5 | Genesis 29:31-30:24 \nMay 12 | Genesis 30:25-31:55
URL:https://crossroads-bible.org/event/sunday-gatherings/2024-03-10/
LOCATION:Crossroads Bible Church\, 800 Scribner NW\, Grand Rapids\, 49504\, United States
CATEGORIES:All Church Gathering
ATTACH;FMTTYPE=image/jpeg:https://crossroads-bible.org/wp-content/uploads/2023/09/genesis_slide-2.jpg
END:VEVENT
BEGIN:VEVENT
DTSTART;TZID=America/Detroit:20240310T124500
DTEND;TZID=America/Detroit:20240310T140000
DTSTAMP:20260425T093538
CREATED:20240221T223300Z
LAST-MODIFIED:20240228T210721Z
UID:10005881-1710074700-1710079200@crossroads-bible.org
SUMMARY:Jail Ministry Informational Lunch
DESCRIPTION:Join us for lunch to learn more about the many ways to come alongside those that are currently incarcerated and post-incarcerated that are looking to deepen their faith and take next steps to create a new life for themselves. If this is something that you’re passionate about or  interested in\, we’d love for you to join the conversation and partner with us in serving this community.
URL:https://crossroads-bible.org/event/jail-ministry-informational-ministry/
LOCATION:Crossroads Upper Room North\, 800 Scribner Ave NW\, Grand Rapids\, MI\, 49504\, United States
CATEGORIES:Missions
ATTACH;FMTTYPE=image/jpeg:https://crossroads-bible.org/wp-content/uploads/2024/02/Jails-served_header.jpeg
END:VEVENT
END:VCALENDAR