BEGIN:VCALENDAR
VERSION:2.0
PRODID:-//Crossroads Bible Church - ECPv6.15.20//NONSGML v1.0//EN
CALSCALE:GREGORIAN
METHOD:PUBLISH
X-ORIGINAL-URL:https://crossroads-bible.org
X-WR-CALDESC:Events for Crossroads Bible Church
REFRESH-INTERVAL;VALUE=DURATION:PT1H
X-Robots-Tag:noindex
X-PUBLISHED-TTL:PT1H
BEGIN:VTIMEZONE
TZID:America/Detroit
BEGIN:DAYLIGHT
TZOFFSETFROM:-0500
TZOFFSETTO:-0400
TZNAME:EDT
DTSTART:20230312T070000
END:DAYLIGHT
BEGIN:STANDARD
TZOFFSETFROM:-0400
TZOFFSETTO:-0500
TZNAME:EST
DTSTART:20231105T060000
END:STANDARD
BEGIN:DAYLIGHT
TZOFFSETFROM:-0500
TZOFFSETTO:-0400
TZNAME:EDT
DTSTART:20240310T070000
END:DAYLIGHT
BEGIN:STANDARD
TZOFFSETFROM:-0400
TZOFFSETTO:-0500
TZNAME:EST
DTSTART:20241103T060000
END:STANDARD
BEGIN:DAYLIGHT
TZOFFSETFROM:-0500
TZOFFSETTO:-0400
TZNAME:EDT
DTSTART:20250309T070000
END:DAYLIGHT
BEGIN:STANDARD
TZOFFSETFROM:-0400
TZOFFSETTO:-0500
TZNAME:EST
DTSTART:20251102T060000
END:STANDARD
END:VTIMEZONE
BEGIN:VEVENT
DTSTART;TZID=America/Detroit:20241109T073000
DTEND;TZID=America/Detroit:20241109T090000
DTSTAMP:20260420T150902
CREATED:20230825T012213Z
LAST-MODIFIED:20250203T174842Z
UID:10004032-1731137400-1731142800@crossroads-bible.org
SUMMARY:Men's | Avenue Group
DESCRIPTION:Relationship struggles and sexual brokenness can make you feel ashamed\, trapped\, and alone. For over 20 years\, Avenue has helped people restore their lives and relationships. Get into this private healing group for men and experience Biblically sound materials\, a supportive environment\, and both accountability and encouragement. \nDon’t wait! Sexual struggles can be so difficult to talk about\, but once you have shined the light on your struggle\, the power it has over you will begin to weaken. You need a supportive community. \nPlease call or text Matt Guy (616-262-7758) prior to joining. \nTo learn more about On Men’s Ministry\, click here.
URL:https://crossroads-bible.org/event/mens-ministry-avenue-group/2024-11-09/
LOCATION:Crossroads Bible Church\, 800 Scribner NW\, Grand Rapids\, 49504\, United States
CATEGORIES:Men
ATTACH;FMTTYPE=image/webp:https://crossroads-bible.org/wp-content/uploads/2023/08/lightstock294649xsmallsusanallen.webp
END:VEVENT
BEGIN:VEVENT
DTSTART;TZID=America/Detroit:20241109T090000
DTEND;TZID=America/Detroit:20241109T120000
DTSTAMP:20260420T150902
CREATED:20240913T215559Z
LAST-MODIFIED:20240913T215610Z
UID:10006918-1731142800-1731153600@crossroads-bible.org
SUMMARY:Crossroads Kids | Fall Family Fun Day
DESCRIPTION:Parents and kids\, we’re thrilled to introduce something new this year—Fall Family Fun Day! Mark your calendars for and join us for a morning filled with exciting fall-themed activities\, fun\, and fellowship. \nWe’ll wrap up the fun with a potluck\, so be sure to bring your favorite dish to share. It’s the perfect chance for families to connect and celebrate the season together! \nSign Up Here
URL:https://crossroads-bible.org/event/crossroads-kids-fall-fun-day/
LOCATION:Crossroads Bible Church\, 800 Scribner NW\, Grand Rapids\, 49504\, United States
CATEGORIES:Families
ATTACH;FMTTYPE=image/jpeg:https://crossroads-bible.org/wp-content/uploads/2024/09/aaron-burden-gt-gTew_mEU-unsplash-scaled-e1726264472122.jpg
ORGANIZER;CN="Hannah Vandervelde":MAILTO:hvandervelde@crossroads-bible.org
END:VEVENT
BEGIN:VEVENT
DTSTART;TZID=America/Detroit:20241109T170000
DTEND;TZID=America/Detroit:20241109T183000
DTSTAMP:20260420T150902
CREATED:20240801T192641Z
LAST-MODIFIED:20240924T022443Z
UID:10006069-1731171600-1731177000@crossroads-bible.org
SUMMARY:Saturday Gathering
DESCRIPTION:Join us at our new Saturday evening gathering for worship\, time in the Word\, and fellowship with the rest of our Crossroads family. \nWe are in need of hospitality volunteers to serve during this gathering. If you are interested in serving the body in this way\, please fill out the form below:\nVolunteer Interest Form\n\n[vc_custom_heading text=”GENESIS BIBLE STUDY” font_container=”tag:h3|font_size:23|text_align:left|color:%23282828|line_height:27px” use_theme_fonts=”yes” css=”.vc_custom_1725985806219{padding-top: 15px !important;}” el_class=”cap”]\nOur team has developed a Bible study to complement our Genesis sermon series. This study offers five opportunities to delve into the Bible before Sunday morning\, complete with questions and prompts for those studying in groups. The goal is for you (or your small group) to engage with the text\, opening your hearts to hear from God before gathering together for the weekend services. Download a copy of the study at the link below. \nDownload Study\n\n[vc_custom_heading text=”GENESIS SERIES READING SCHEDULE” font_container=”tag:h3|font_size:23|text_align:left|color:%23282828|line_height:27px” use_theme_fonts=”yes” css=”.vc_custom_1725985806219{padding-top: 15px !important;}” el_class=”cap”]\n\n\nSeptember 7 & 8 | Genesis 32–33\n\n\nSeptember 14 & 15 | Genesis 34\n\n\nSeptember 21 & 22 | Disciple Making\n\n\nSeptember 28 & 29 | Genesis 35–36\n\n\nOctober 5 & 6 | Genesis 37\n\n\nOctober 12 & 13 | Genesis 38\n\n\nOctober 19 & 20 | Genesis 39\n\n\nOctober 26 & 27 | Genesis 40–41\n\n\nNovember 2 & 3 | Genesis 42–44\n\n\nNovember 9 & 10 | Genesis 45–46\n\n\nNovember 16 & 17 | Genesis 47–49\n\n\nNovember 23 & 24 | Genesis 50
URL:https://crossroads-bible.org/event/saturday-gathering/2024-11-09/
LOCATION:Crossroads Gathering Space\, 800 Scribner NW\, Grand Rapids\, MI\, 49504\, United States
CATEGORIES:All Church Gathering
ATTACH;FMTTYPE=image/jpeg:https://crossroads-bible.org/wp-content/uploads/2023/09/9-29_genesis_slide-2.jpg
END:VEVENT
BEGIN:VEVENT
DTSTART;TZID=America/Detroit:20241109T183000
DTEND;TZID=America/Detroit:20241109T203000
DTSTAMP:20260420T150902
CREATED:20240816T205934Z
LAST-MODIFIED:20240818T060436Z
UID:10006701-1731177000-1731184200@crossroads-bible.org
SUMMARY:Students | Middle School Bonfire
DESCRIPTION:Middle schoolers\, come join us for a bonfire! We’ll be making s’mores\, playing fun games\, and simply enjoying each other’s company. It’s going to be a cozy and fun-filled evening you won’t want to miss! RSVP is helpful\, but not required.  \nRSVP
URL:https://crossroads-bible.org/event/students-middle-school-bonfire/
LOCATION:MI
CATEGORIES:Families,Students
ATTACH;FMTTYPE=image/jpeg:https://crossroads-bible.org/wp-content/uploads/2024/08/robert-bye-QGdZpOUxvpU-unsplash-scaled.jpg
ORGANIZER;CN="Molly Vedders":MAILTO:mvedders@crossroads-bible.org
END:VEVENT
END:VCALENDAR