BEGIN:VCALENDAR
VERSION:2.0
PRODID:-//Crossroads Bible Church - ECPv6.15.20//NONSGML v1.0//EN
CALSCALE:GREGORIAN
METHOD:PUBLISH
X-ORIGINAL-URL:https://crossroads-bible.org
X-WR-CALDESC:Events for Crossroads Bible Church
REFRESH-INTERVAL;VALUE=DURATION:PT1H
X-Robots-Tag:noindex
X-PUBLISHED-TTL:PT1H
BEGIN:VTIMEZONE
TZID:America/Detroit
BEGIN:DAYLIGHT
TZOFFSETFROM:-0500
TZOFFSETTO:-0400
TZNAME:EDT
DTSTART:20230312T070000
END:DAYLIGHT
BEGIN:STANDARD
TZOFFSETFROM:-0400
TZOFFSETTO:-0500
TZNAME:EST
DTSTART:20231105T060000
END:STANDARD
BEGIN:DAYLIGHT
TZOFFSETFROM:-0500
TZOFFSETTO:-0400
TZNAME:EDT
DTSTART:20240310T070000
END:DAYLIGHT
BEGIN:STANDARD
TZOFFSETFROM:-0400
TZOFFSETTO:-0500
TZNAME:EST
DTSTART:20241103T060000
END:STANDARD
BEGIN:DAYLIGHT
TZOFFSETFROM:-0500
TZOFFSETTO:-0400
TZNAME:EDT
DTSTART:20250309T070000
END:DAYLIGHT
BEGIN:STANDARD
TZOFFSETFROM:-0400
TZOFFSETTO:-0500
TZNAME:EST
DTSTART:20251102T060000
END:STANDARD
END:VTIMEZONE
BEGIN:VEVENT
DTSTART;TZID=America/Detroit:20241112T190000
DTEND;TZID=America/Detroit:20241112T210000
DTSTAMP:20260420T090215
CREATED:20240806T200945Z
LAST-MODIFIED:20240812T192546Z
UID:10006672-1731438000-1731445200@crossroads-bible.org
SUMMARY:The Post | Small Groups
DESCRIPTION:At the Post we aim to create space for 25-35 year olds to grow in their faith in Christ and in community with each other. More info about our small groups coming soon. \nFind us on Facebook or email Nathan for more information! \nTo learn more about the Post at Crossroads\, click here.
URL:https://crossroads-bible.org/event/the-post-small-groups/2024-11-12/
CATEGORIES:Post-College
ATTACH;FMTTYPE=image/jpeg:https://crossroads-bible.org/wp-content/uploads/2024/08/lightstock_512761_full_allison-scaled-e1754753976858.jpg
ORGANIZER;CN="Nathan English":MAILTO:nenglish@crossroads-bible.org
END:VEVENT
END:VCALENDAR