BEGIN:VCALENDAR
VERSION:2.0
PRODID:-//Crossroads Bible Church - ECPv6.15.20//NONSGML v1.0//EN
CALSCALE:GREGORIAN
METHOD:PUBLISH
X-ORIGINAL-URL:https://crossroads-bible.org
X-WR-CALDESC:Events for Crossroads Bible Church
REFRESH-INTERVAL;VALUE=DURATION:PT1H
X-Robots-Tag:noindex
X-PUBLISHED-TTL:PT1H
BEGIN:VTIMEZONE
TZID:America/Detroit
BEGIN:DAYLIGHT
TZOFFSETFROM:-0500
TZOFFSETTO:-0400
TZNAME:EDT
DTSTART:20230312T070000
END:DAYLIGHT
BEGIN:STANDARD
TZOFFSETFROM:-0400
TZOFFSETTO:-0500
TZNAME:EST
DTSTART:20231105T060000
END:STANDARD
BEGIN:DAYLIGHT
TZOFFSETFROM:-0500
TZOFFSETTO:-0400
TZNAME:EDT
DTSTART:20240310T070000
END:DAYLIGHT
BEGIN:STANDARD
TZOFFSETFROM:-0400
TZOFFSETTO:-0500
TZNAME:EST
DTSTART:20241103T060000
END:STANDARD
BEGIN:DAYLIGHT
TZOFFSETFROM:-0500
TZOFFSETTO:-0400
TZNAME:EDT
DTSTART:20250309T070000
END:DAYLIGHT
BEGIN:STANDARD
TZOFFSETFROM:-0400
TZOFFSETTO:-0500
TZNAME:EST
DTSTART:20251102T060000
END:STANDARD
END:VTIMEZONE
BEGIN:VEVENT
DTSTART;TZID=America/Detroit:20241214T073000
DTEND;TZID=America/Detroit:20241214T090000
DTSTAMP:20260423T132359
CREATED:20230825T012213Z
LAST-MODIFIED:20250203T174842Z
UID:10004037-1734161400-1734166800@crossroads-bible.org
SUMMARY:Men's | Avenue Group
DESCRIPTION:Relationship struggles and sexual brokenness can make you feel ashamed\, trapped\, and alone. For over 20 years\, Avenue has helped people restore their lives and relationships. Get into this private healing group for men and experience Biblically sound materials\, a supportive environment\, and both accountability and encouragement. \nDon’t wait! Sexual struggles can be so difficult to talk about\, but once you have shined the light on your struggle\, the power it has over you will begin to weaken. You need a supportive community. \nPlease call or text Matt Guy (616-262-7758) prior to joining. \nTo learn more about On Men’s Ministry\, click here.
URL:https://crossroads-bible.org/event/mens-ministry-avenue-group/2024-12-14/
LOCATION:Crossroads Bible Church\, 800 Scribner NW\, Grand Rapids\, 49504\, United States
CATEGORIES:Men
ATTACH;FMTTYPE=image/webp:https://crossroads-bible.org/wp-content/uploads/2023/08/lightstock294649xsmallsusanallen.webp
END:VEVENT
BEGIN:VEVENT
DTSTART;TZID=America/Detroit:20241214T090000
DTEND;TZID=America/Detroit:20241214T140000
DTSTAMP:20260423T132359
CREATED:20241102T173455Z
LAST-MODIFIED:20241211T162835Z
UID:10007053-1734166800-1734184800@crossroads-bible.org
SUMMARY:Crossroads Christmas Market
DESCRIPTION:Save the date for a Christmas Market at Crossroads! Everyone is welcome to attend\, this will be a great family friendly event!\nWe’ll be having a petting zoo and pony rides outside in our parking lot and Christmas movies playing in the kids area. Inside there will be local vendors selling handmade treats and Christmas gifts items. We’d love to see you there!
URL:https://crossroads-bible.org/event/crossroads-christmas-market/
LOCATION:Crossroads Bible Church\, 800 Scribner NW\, Grand Rapids\, 49504\, United States
CATEGORIES:All Church Gathering,Families
ATTACH;FMTTYPE=image/jpeg:https://crossroads-bible.org/wp-content/uploads/2024/11/11-10_christmas-market_blank.jpg
ORGANIZER;CN="Brittney Burrell":MAILTO:bburrell@crossroads-bible.org
END:VEVENT
BEGIN:VEVENT
DTSTART;TZID=America/Detroit:20241214T170000
DTEND;TZID=America/Detroit:20241214T183000
DTSTAMP:20260423T132359
CREATED:20241127T004429Z
LAST-MODIFIED:20241127T005036Z
UID:10006074-1734195600-1734201000@crossroads-bible.org
SUMMARY:Saturday Gathering
DESCRIPTION:Join us at our Saturday evening gathering for worship\, time in the Word\, and fellowship with the rest of our Crossroads family. \nWe are in need of hospitality volunteers to serve during this gathering. If you are interested in serving the body in this way\, please fill out the form below:\nVolunteer Interest Form\n\n[vc_custom_heading text=”ADVENT SERIES READING SCHEDULE” font_container=”tag:h3|font_size:23|text_align:left|color:%23282828|line_height:27px” use_theme_fonts=”yes” css=”.vc_custom_1725985806219{padding-top: 15px !important;}” el_class=”cap”]\n\nNovember 30 & December 1 | Zechariah & Elizabeth | Luke 1:5-23\nDecember 7 & 8 | Joseph & Mary’s Obedience | Matthew 1:18-25\nDecember 14 & 15 | The Shepherds’ Joy | Luke 2:8-20\nDecember 21 & 22 | The Magi’s Journey | Matthew 2:1-12
URL:https://crossroads-bible.org/event/saturday-gathering-2/2024-12-14/
LOCATION:Crossroads Gathering Space\, 800 Scribner NW\, Grand Rapids\, MI\, 49504\, United States
CATEGORIES:All Church Gathering
ATTACH;FMTTYPE=image/jpeg:https://crossroads-bible.org/wp-content/uploads/2024/08/11-26_advent-2024_event.jpg
END:VEVENT
END:VCALENDAR