BEGIN:VCALENDAR
VERSION:2.0
PRODID:-//Crossroads Bible Church - ECPv6.15.20//NONSGML v1.0//EN
CALSCALE:GREGORIAN
METHOD:PUBLISH
X-WR-CALNAME:Crossroads Bible Church
X-ORIGINAL-URL:https://crossroads-bible.org
X-WR-CALDESC:Events for Crossroads Bible Church
REFRESH-INTERVAL;VALUE=DURATION:PT1H
X-Robots-Tag:noindex
X-PUBLISHED-TTL:PT1H
BEGIN:VTIMEZONE
TZID:America/Detroit
BEGIN:DAYLIGHT
TZOFFSETFROM:-0500
TZOFFSETTO:-0400
TZNAME:EDT
DTSTART:20250309T070000
END:DAYLIGHT
BEGIN:STANDARD
TZOFFSETFROM:-0400
TZOFFSETTO:-0500
TZNAME:EST
DTSTART:20251102T060000
END:STANDARD
BEGIN:DAYLIGHT
TZOFFSETFROM:-0500
TZOFFSETTO:-0400
TZNAME:EDT
DTSTART:20260308T070000
END:DAYLIGHT
BEGIN:STANDARD
TZOFFSETFROM:-0400
TZOFFSETTO:-0500
TZNAME:EST
DTSTART:20261101T060000
END:STANDARD
BEGIN:DAYLIGHT
TZOFFSETFROM:-0500
TZOFFSETTO:-0400
TZNAME:EDT
DTSTART:20270314T070000
END:DAYLIGHT
BEGIN:STANDARD
TZOFFSETFROM:-0400
TZOFFSETTO:-0500
TZNAME:EST
DTSTART:20271107T060000
END:STANDARD
END:VTIMEZONE
BEGIN:VEVENT
DTSTART;VALUE=DATE:20260717
DTEND;VALUE=DATE:20260720
DTSTAMP:20260423T015632
CREATED:20260204T191158Z
LAST-MODIFIED:20260204T191158Z
UID:10010299-1784246400-1784505599@crossroads-bible.org
SUMMARY:Men's Manistee River Trail Hike & Canoe Trip
DESCRIPTION:Sometimes you just need to get away… If you enjoy rustic backpacking on beautiful hiking trails by pristine rivers and creeks\, as well as a chance to explore with a group of guys who are pursuing God and brotherhood together\, join us! \nThe Manistee River Trail is one of Michigan’s most scenic and popular trails. We will begin on Friday afternoon by hiking about 5 miles and camping overnight on the trail. On Saturday\, we will do the remainder of the trail and end up at the National Forest Campground at Seaton Creek. On Sunday\, we will hike back to the river and do a 9 mile canoe paddle back to the original starting point. \nThis retreat weekend will be a combination of fun and adventure in the outdoors\, space to breathe and reflect\, and great conversations with the guys on the trip. We will share some stories and life experiences together while exploring some themes related to community and living a life with healthy rhythms. \nModerate hiking ability is necessary\, and guys need to provide their own backpacking/camping gear. We will schedule a packing party closer to the trip so guys can make sure they have what they need. \nSign Up Here
URL:https://crossroads-bible.org/event/mens-manistee-river-trail-hike-canoe-trip-3/
LOCATION:Manistee River Trail\, Michigan
CATEGORIES:Men
ATTACH;FMTTYPE=image/jpeg:https://crossroads-bible.org/wp-content/uploads/2025/02/2-DSC07824-2-scaled.jpg
ORGANIZER;CN="Matt Kenney":MAILTO:mkenney@crossroads-bible.org
END:VEVENT
BEGIN:VEVENT
DTSTART;TZID=America/Detroit:20260719T074500
DTEND;TZID=America/Detroit:20260719T083000
DTSTAMP:20260423T015632
CREATED:20241211T155920Z
LAST-MODIFIED:20250729T191323Z
UID:10007291-1784447100-1784449800@crossroads-bible.org
SUMMARY:Sunday Morning Prayer
DESCRIPTION:Each Sunday morning\, before our worship gatherings\, we gather to pray for our church\, our city\, and the global church. We invite you to join us as we humbly seek God’s guidance and wisdom together.
URL:https://crossroads-bible.org/event/sunday-morning-prayer/2026-07-19/
LOCATION:Crossroads Conference Room\, 800 Scribner Ave NW\, Grand Rapids\, MI\, 49504\, United States
CATEGORIES:All Church Gathering
ATTACH;FMTTYPE=image/jpeg:https://crossroads-bible.org/wp-content/uploads/2023/11/patrick-fore-26857-unsplash-scaled.jpg
END:VEVENT
BEGIN:VEVENT
DTSTART;TZID=America/Detroit:20260719T084500
DTEND;TZID=America/Detroit:20260719T121500
DTSTAMP:20260423T015632
CREATED:20250902T174423Z
LAST-MODIFIED:20250902T174423Z
UID:10001234-1784450700-1784463300@crossroads-bible.org
SUMMARY:Sunday Gatherings
DESCRIPTION:We gather each Sunday at 8:45 & 10:45am in our building at 800 Scribner for worship\, time in the Word\, and fellowship with the rest of our Crossroads family. \nWe also have a livestream available every Sunday at 10:45 AM.
URL:https://crossroads-bible.org/event/sunday-gatherings-3-2-3-2-2-2-3/2026-07-19/
LOCATION:Crossroads Bible Church\, 800 Scribner NW\, Grand Rapids\, 49504\, United States
CATEGORIES:All Church Gathering,Weekend Gatherings
ATTACH;FMTTYPE=image/jpeg:https://crossroads-bible.org/wp-content/uploads/2025/07/Acts-sermon_slide.jpg
END:VEVENT
BEGIN:VEVENT
DTSTART;TZID=America/Detroit:20260719T170000
DTEND;TZID=America/Detroit:20260719T213000
DTSTAMP:20260423T015632
CREATED:20260413T191709Z
LAST-MODIFIED:20260413T191709Z
UID:10010375-1784480400-1784496600@crossroads-bible.org
SUMMARY:The Walk & The Post | Beach Worship Night
DESCRIPTION:The Walk and the Post will be gathering together at North Beach Park in Grand Haven for a potluck\, fellowship\, and worship. We will be hanging out from around 5pm until sunset. Come by whenever works for you!\nThe volleyball net and other beach games will be set up but feel free to bring your own as well. \nWe will also have a time for baptisms in the lake. If you are interested in being baptized\, please complete this form. \nWe’re also doing dinner potluck style and BYOB:\nFirst names that begin with A-L: Bring a main dish\, or a side dish.\nFirst names that begin with M-Z: Bring a side dish or a dessert. \nWHAT: We will have volleyball\, lawn games\, fellowship\, and a potluck at the beach. We will then end the night with some worship at sunset.\nWHEN: Sunday\, July 20th // 5pm-Sunset\nWHERE: We’ll be at North Beach Park 18775 N Shore Dr Spring Lake MI 49409 (North of Grand Haven) We’ll be at the Picnic Shelter!\nWHO: The Walk & The Post! \nRSVP Here\nFor more info\, please email Chloe!
URL:https://crossroads-bible.org/event/the-walk-the-post-beach-worship-night-2/
LOCATION:North Beach Park\, 18775 N Shore Dr\, Spring Lake\, MI\, 49456\, United States
CATEGORIES:College,Post-College
ATTACH;FMTTYPE=image/jpeg:https://crossroads-bible.org/wp-content/uploads/2023/09/93-DSC09200-scaled.jpg
ORGANIZER;CN="Chloe Damron":MAILTO:cdamron@crossroads-bible.org
END:VEVENT
END:VCALENDAR