BEGIN:VCALENDAR
VERSION:2.0
PRODID:-//Crossroads Bible Church - ECPv6.15.20//NONSGML v1.0//EN
CALSCALE:GREGORIAN
METHOD:PUBLISH
X-WR-CALNAME:Crossroads Bible Church
X-ORIGINAL-URL:https://crossroads-bible.org
X-WR-CALDESC:Events for Crossroads Bible Church
REFRESH-INTERVAL;VALUE=DURATION:PT1H
X-Robots-Tag:noindex
X-PUBLISHED-TTL:PT1H
BEGIN:VTIMEZONE
TZID:America/Detroit
BEGIN:DAYLIGHT
TZOFFSETFROM:-0500
TZOFFSETTO:-0400
TZNAME:EDT
DTSTART:20290311T070000
END:DAYLIGHT
BEGIN:STANDARD
TZOFFSETFROM:-0400
TZOFFSETTO:-0500
TZNAME:EST
DTSTART:20291104T060000
END:STANDARD
BEGIN:DAYLIGHT
TZOFFSETFROM:-0500
TZOFFSETTO:-0400
TZNAME:EDT
DTSTART:20300310T070000
END:DAYLIGHT
BEGIN:STANDARD
TZOFFSETFROM:-0400
TZOFFSETTO:-0500
TZNAME:EST
DTSTART:20301103T060000
END:STANDARD
BEGIN:DAYLIGHT
TZOFFSETFROM:-0500
TZOFFSETTO:-0400
TZNAME:EDT
DTSTART:20310309T070000
END:DAYLIGHT
BEGIN:STANDARD
TZOFFSETFROM:-0400
TZOFFSETTO:-0500
TZNAME:EST
DTSTART:20311102T060000
END:STANDARD
END:VTIMEZONE
BEGIN:VEVENT
DTSTART;TZID=America/Detroit:20300831T173000
DTEND;TZID=America/Detroit:20300831T190000
DTSTAMP:20260426T003031
CREATED:20260426T005831Z
LAST-MODIFIED:20260426T010119Z
UID:10009801-1914427800-1914433200@crossroads-bible.org
SUMMARY:City Service
DESCRIPTION:The City Service is a strategic gathering in Wyoming\, bringing the heart of Crossroads to a new neighborhood. Join us as we live out our mission to be a church in the city\, for the city. We hope you’ll join us! \nIf you have any questions please contact Jason.
URL:https://crossroads-bible.org/event/saturday-city-service-2/2030-08-31/
LOCATION:Crossroads City Service – Wyoming\, 1530 40th St SW\, Wyoming\, 49509\, United States
CATEGORIES:All Church Gathering,Weekend Gatherings
ATTACH;FMTTYPE=image/jpeg:https://crossroads-bible.org/wp-content/uploads/2025/08/GR-skyline-6100-2.jpg
ORGANIZER;CN="Jason Botbyl":MAILTO:jbotbyl@crossroads-bible.org
END:VEVENT
END:VCALENDAR