BEGIN:VCALENDAR
VERSION:2.0
PRODID:-//Crossroads Bible Church - ECPv6.15.20//NONSGML v1.0//EN
CALSCALE:GREGORIAN
METHOD:PUBLISH
X-ORIGINAL-URL:https://crossroads-bible.org
X-WR-CALDESC:Events for Crossroads Bible Church
REFRESH-INTERVAL;VALUE=DURATION:PT1H
X-Robots-Tag:noindex
X-PUBLISHED-TTL:PT1H
BEGIN:VTIMEZONE
TZID:America/Detroit
BEGIN:DAYLIGHT
TZOFFSETFROM:-0500
TZOFFSETTO:-0400
TZNAME:EDT
DTSTART:20240310T070000
END:DAYLIGHT
BEGIN:STANDARD
TZOFFSETFROM:-0400
TZOFFSETTO:-0500
TZNAME:EST
DTSTART:20241103T060000
END:STANDARD
BEGIN:DAYLIGHT
TZOFFSETFROM:-0500
TZOFFSETTO:-0400
TZNAME:EDT
DTSTART:20250309T070000
END:DAYLIGHT
BEGIN:STANDARD
TZOFFSETFROM:-0400
TZOFFSETTO:-0500
TZNAME:EST
DTSTART:20251102T060000
END:STANDARD
BEGIN:DAYLIGHT
TZOFFSETFROM:-0500
TZOFFSETTO:-0400
TZNAME:EDT
DTSTART:20260308T070000
END:DAYLIGHT
BEGIN:STANDARD
TZOFFSETFROM:-0400
TZOFFSETTO:-0500
TZNAME:EST
DTSTART:20261101T060000
END:STANDARD
END:VTIMEZONE
BEGIN:VEVENT
DTSTART;TZID=America/Detroit:20250914T101500
DTEND;TZID=America/Detroit:20250914T104500
DTSTAMP:20260421T144758
CREATED:20250327T190334Z
LAST-MODIFIED:20250714T210554Z
UID:10008007-1757844900-1757846700@crossroads-bible.org
SUMMARY:Pray for Our Missionaries
DESCRIPTION:On the second Sunday of each month\, we invite you to join us to pray for those in our church family that God has called to do His Kingdom work around the world. This will be a dedicated time to lift them up before the Lord\, asking for His protection\, guidance\, and provision as they share the Gospel in different parts of the world. No signup necessary\, please reach out to Linda or Bonnie with questions.
URL:https://crossroads-bible.org/event/pray-for-our-missionaries/2025-09-14/
LOCATION:Crossroads Conference Room\, 800 Scribner Ave NW\, Grand Rapids\, MI\, 49504\, United States
CATEGORIES:All Church Gathering,Missions
ATTACH;FMTTYPE=image/jpeg:https://crossroads-bible.org/wp-content/uploads/2024/05/lightstock_322512_medium_allison-2-scaled.jpg
END:VEVENT
BEGIN:VEVENT
DTSTART;TZID=America/Detroit:20250914T104500
DTEND;TZID=America/Detroit:20250914T121500
DTSTAMP:20260421T144758
CREATED:20240828T203411Z
LAST-MODIFIED:20250910T155359Z
UID:10001138-1757846700-1757852100@crossroads-bible.org
SUMMARY:Sunday Gathering Time Change
DESCRIPTION:Due to road closings\, our gathering times on Sunday\, September 14 will be changing to 10:45AM and 4PM. There will not be Crossroads Kids available at the 4pm service. \nView Parking Instructions\n 
URL:https://crossroads-bible.org/event/sunday-gatherings-3-2-2/
LOCATION:Crossroads Bible Church\, 800 Scribner NW\, Grand Rapids\, 49504\, United States
CATEGORIES:All Church Gathering
ATTACH;FMTTYPE=image/jpeg:https://crossroads-bible.org/wp-content/uploads/2025/07/Acts-sermon_slide.jpg
END:VEVENT
BEGIN:VEVENT
DTSTART;TZID=America/Detroit:20250914T160000
DTEND;TZID=America/Detroit:20250914T173000
DTSTAMP:20260421T144758
CREATED:20250826T192134Z
LAST-MODIFIED:20250910T155412Z
UID:10009239-1757865600-1757871000@crossroads-bible.org
SUMMARY:Sunday Gathering Time Change
DESCRIPTION:Due to road closings\, our gathering times on Sunday\, September 14 will be changing to 10:45AM and 4PM. There will not be Crossroads Kids available at the 4pm service. \nView Parking Instructions\n  \n  \n 
URL:https://crossroads-bible.org/event/sunday-gathering-time-change/
LOCATION:Crossroads Bible Church\, 800 Scribner NW\, Grand Rapids\, 49504\, United States
CATEGORIES:All Church Gathering
ATTACH;FMTTYPE=image/jpeg:https://crossroads-bible.org/wp-content/uploads/2025/07/Acts-sermon_slide.jpg
END:VEVENT
END:VCALENDAR