BEGIN:VCALENDAR
VERSION:2.0
PRODID:-//Crossroads Bible Church - ECPv6.15.20//NONSGML v1.0//EN
CALSCALE:GREGORIAN
METHOD:PUBLISH
X-WR-CALNAME:Crossroads Bible Church
X-ORIGINAL-URL:https://crossroads-bible.org
X-WR-CALDESC:Events for Crossroads Bible Church
REFRESH-INTERVAL;VALUE=DURATION:PT1H
X-Robots-Tag:noindex
X-PUBLISHED-TTL:PT1H
BEGIN:VTIMEZONE
TZID:America/Detroit
BEGIN:DAYLIGHT
TZOFFSETFROM:-0500
TZOFFSETTO:-0400
TZNAME:EDT
DTSTART:20230312T070000
END:DAYLIGHT
BEGIN:STANDARD
TZOFFSETFROM:-0400
TZOFFSETTO:-0500
TZNAME:EST
DTSTART:20231105T060000
END:STANDARD
BEGIN:DAYLIGHT
TZOFFSETFROM:-0500
TZOFFSETTO:-0400
TZNAME:EDT
DTSTART:20240310T070000
END:DAYLIGHT
BEGIN:STANDARD
TZOFFSETFROM:-0400
TZOFFSETTO:-0500
TZNAME:EST
DTSTART:20241103T060000
END:STANDARD
BEGIN:DAYLIGHT
TZOFFSETFROM:-0500
TZOFFSETTO:-0400
TZNAME:EDT
DTSTART:20250309T070000
END:DAYLIGHT
BEGIN:STANDARD
TZOFFSETFROM:-0400
TZOFFSETTO:-0500
TZNAME:EST
DTSTART:20251102T060000
END:STANDARD
END:VTIMEZONE
BEGIN:VEVENT
DTSTART;TZID=America/Detroit:20240629T110000
DTEND;TZID=America/Detroit:20240629T140000
DTSTAMP:20260422T025820
CREATED:20240620T201136Z
LAST-MODIFIED:20240620T201136Z
UID:10005995-1719658800-1719669600@crossroads-bible.org
SUMMARY:Adoption & Foster | Kinship Family Respite & Training
DESCRIPTION:Join us for a day of relaxation\, learning\, and support\, open to all kinship caregivers and their families in West Michigan! Kids will participate in games and activities\, complete with a bounce house while caregivers will attend a valuable training session on healthy foods. Organizations from all over the area will share how they can support you in caring for children in your home. \nLearn More
URL:https://crossroads-bible.org/event/adoption-foster-kinship-family-respite-training/
LOCATION:Crossroads Bible Church\, 800 Scribner NW\, Grand Rapids\, 49504\, United States
CATEGORIES:Adopt & Foster,Community Care,Families
ATTACH;FMTTYPE=image/jpeg:https://crossroads-bible.org/wp-content/uploads/2024/06/gabe-pierce-9r0sZMCPMNA-unsplash-scaled.jpg
ORGANIZER;CN="Jamie Bartlett":MAILTO:jbartlett@crossroads-bible.org
END:VEVENT
END:VCALENDAR