BEGIN:VCALENDAR
VERSION:2.0
PRODID:-//Crossroads Bible Church - ECPv6.15.20//NONSGML v1.0//EN
CALSCALE:GREGORIAN
METHOD:PUBLISH
X-WR-CALNAME:Crossroads Bible Church
X-ORIGINAL-URL:https://crossroads-bible.org
X-WR-CALDESC:Events for Crossroads Bible Church
REFRESH-INTERVAL;VALUE=DURATION:PT1H
X-Robots-Tag:noindex
X-PUBLISHED-TTL:PT1H
BEGIN:VTIMEZONE
TZID:America/Detroit
BEGIN:DAYLIGHT
TZOFFSETFROM:-0500
TZOFFSETTO:-0400
TZNAME:EDT
DTSTART:20230312T070000
END:DAYLIGHT
BEGIN:STANDARD
TZOFFSETFROM:-0400
TZOFFSETTO:-0500
TZNAME:EST
DTSTART:20231105T060000
END:STANDARD
BEGIN:DAYLIGHT
TZOFFSETFROM:-0500
TZOFFSETTO:-0400
TZNAME:EDT
DTSTART:20240310T070000
END:DAYLIGHT
BEGIN:STANDARD
TZOFFSETFROM:-0400
TZOFFSETTO:-0500
TZNAME:EST
DTSTART:20241103T060000
END:STANDARD
BEGIN:DAYLIGHT
TZOFFSETFROM:-0500
TZOFFSETTO:-0400
TZNAME:EDT
DTSTART:20250309T070000
END:DAYLIGHT
BEGIN:STANDARD
TZOFFSETFROM:-0400
TZOFFSETTO:-0500
TZNAME:EST
DTSTART:20251102T060000
END:STANDARD
END:VTIMEZONE
BEGIN:VEVENT
DTSTART;TZID=America/Detroit:20241102T090000
DTEND;TZID=America/Detroit:20241102T110000
DTSTAMP:20260421T133518
CREATED:20240911T210149Z
LAST-MODIFIED:20240911T210149Z
UID:10006917-1730538000-1730545200@crossroads-bible.org
SUMMARY:GriefShare Surviving the Holidays
DESCRIPTION:Join us on a Saturday morning in the Garage as we learn about navigating the holidays through loss. Wondering how you will survive the weeks surrounding Christmas? Are you dreading these holidays\, knowing that everything has changed and that happy memories from past years can’t be recreated? \nSurviving the Holidays is especially for people who are grieving a loved one’s death. You’ll learn: \n\nHow to deal with the many emotions you’ll face during the holidays\nWhat to do about traditions and other coming changes\nHelpful tips for surviving social events\nHow to discover hope for your future\n\nNo cost for this event\, but please register so we have a headcount for food. \nIf you have questions\, please email Jean. We hope to see you! \nRegister Here
URL:https://crossroads-bible.org/event/griefshare-surviving-the-holidays-2/
LOCATION:Crossroads Garage\, 800 Scribner Ave NW\, Grand Rapids\, MI\, 49504\, United States
CATEGORIES:Community Care
ATTACH;FMTTYPE=image/jpeg:https://crossroads-bible.org/wp-content/uploads/2023/09/grant-lemons-UtmErZJ9fGo-unsplash-scaled.jpg
ORGANIZER;CN="Jean Ballance":MAILTO:jballance@crossroads-bible.org
END:VEVENT
END:VCALENDAR