BEGIN:VCALENDAR
VERSION:2.0
PRODID:-//Crossroads Bible Church - ECPv6.15.20//NONSGML v1.0//EN
CALSCALE:GREGORIAN
METHOD:PUBLISH
X-WR-CALNAME:Crossroads Bible Church
X-ORIGINAL-URL:https://crossroads-bible.org
X-WR-CALDESC:Events for Crossroads Bible Church
REFRESH-INTERVAL;VALUE=DURATION:PT1H
X-Robots-Tag:noindex
X-PUBLISHED-TTL:PT1H
BEGIN:VTIMEZONE
TZID:America/Detroit
BEGIN:DAYLIGHT
TZOFFSETFROM:-0500
TZOFFSETTO:-0400
TZNAME:EDT
DTSTART:20240310T070000
END:DAYLIGHT
BEGIN:STANDARD
TZOFFSETFROM:-0400
TZOFFSETTO:-0500
TZNAME:EST
DTSTART:20241103T060000
END:STANDARD
BEGIN:DAYLIGHT
TZOFFSETFROM:-0500
TZOFFSETTO:-0400
TZNAME:EDT
DTSTART:20250309T070000
END:DAYLIGHT
BEGIN:STANDARD
TZOFFSETFROM:-0400
TZOFFSETTO:-0500
TZNAME:EST
DTSTART:20251102T060000
END:STANDARD
BEGIN:DAYLIGHT
TZOFFSETFROM:-0500
TZOFFSETTO:-0400
TZNAME:EDT
DTSTART:20260308T070000
END:DAYLIGHT
BEGIN:STANDARD
TZOFFSETFROM:-0400
TZOFFSETTO:-0500
TZNAME:EST
DTSTART:20261101T060000
END:STANDARD
END:VTIMEZONE
BEGIN:VEVENT
DTSTART;TZID=America/Detroit:20250415T120000
DTEND;TZID=America/Detroit:20250415T140000
DTSTAMP:20260420T115142
CREATED:20250324T192952Z
LAST-MODIFIED:20250324T193301Z
UID:10007700-1744718400-1744725600@crossroads-bible.org
SUMMARY:Acts2Impact Theology of the Body Workshop
DESCRIPTION:Acts 2 Impact is offering a workshop for participants leading\, working\, and parenting in the foster care\, adoption and vulnerable child ministry space\, who hold a traditional biblical view of gender and sexuality and desire a place in which to wrestle with the pressures and challenges of our current cultural climate. The workshop will be anchored in a strong theology of the body\, then flow into a collaborative discussion around best practices\, pinch points\, problem solving and encouragement for the road ahead.  \nThe workshop will be facilitated by Zach Coffin\, who brings 20 years of experience leading kid/student/family ministries and executive leadership coaching. Zach is a sought-after coach because his practical theology approach empowers leaders to walk in grace and truth. Find out more about Zach here. \nSign Up Here
URL:https://crossroads-bible.org/event/acts2impact-theology-of-the-body-workshop/
LOCATION:Crossroads Upper Room\, 800 Scribner Ave NW\, Grand Rapids\, MI\, 49504\, United States
CATEGORIES:Adopt & Foster,Community Care
ATTACH;FMTTYPE=image/jpeg:https://crossroads-bible.org/wp-content/uploads/2023/11/11-27_foster-adopt-elective_rotator.jpg
ORGANIZER;CN="Jamie Bartlett":MAILTO:jbartlett@crossroads-bible.org
END:VEVENT
END:VCALENDAR