BEGIN:VCALENDAR
VERSION:2.0
PRODID:-//Crossroads Bible Church - ECPv6.15.20//NONSGML v1.0//EN
CALSCALE:GREGORIAN
METHOD:PUBLISH
X-ORIGINAL-URL:https://crossroads-bible.org
X-WR-CALDESC:Events for Crossroads Bible Church
REFRESH-INTERVAL;VALUE=DURATION:PT1H
X-Robots-Tag:noindex
X-PUBLISHED-TTL:PT1H
BEGIN:VTIMEZONE
TZID:America/Detroit
BEGIN:DAYLIGHT
TZOFFSETFROM:-0500
TZOFFSETTO:-0400
TZNAME:EDT
DTSTART:20240310T070000
END:DAYLIGHT
BEGIN:STANDARD
TZOFFSETFROM:-0400
TZOFFSETTO:-0500
TZNAME:EST
DTSTART:20241103T060000
END:STANDARD
BEGIN:DAYLIGHT
TZOFFSETFROM:-0500
TZOFFSETTO:-0400
TZNAME:EDT
DTSTART:20250309T070000
END:DAYLIGHT
BEGIN:STANDARD
TZOFFSETFROM:-0400
TZOFFSETTO:-0500
TZNAME:EST
DTSTART:20251102T060000
END:STANDARD
BEGIN:DAYLIGHT
TZOFFSETFROM:-0500
TZOFFSETTO:-0400
TZNAME:EDT
DTSTART:20260308T070000
END:DAYLIGHT
BEGIN:STANDARD
TZOFFSETFROM:-0400
TZOFFSETTO:-0500
TZNAME:EST
DTSTART:20261101T060000
END:STANDARD
END:VTIMEZONE
BEGIN:VEVENT
DTSTART;TZID=America/Detroit:20250416T181500
DTEND;TZID=America/Detroit:20250416T203000
DTSTAMP:20260424T013716
CREATED:20250415T194618Z
LAST-MODIFIED:20250415T194837Z
UID:10008332-1744827300-1744835400@crossroads-bible.org
SUMMARY:The Walk & Outpost Worship Night
DESCRIPTION:Join us for a combined worship night with the Walk and Outpost! \nTo learn more about The Walk\, click here. \nTo learn more about Outpost\, click here.
URL:https://crossroads-bible.org/event/walk-outpost/
LOCATION:Crossroads Upper Room\, 800 Scribner Ave NW\, Grand Rapids\, MI\, 49504\, United States
CATEGORIES:College,Home,Students
ATTACH;FMTTYPE=image/jpeg:https://crossroads-bible.org/wp-content/uploads/2024/08/R6_15738-scaled-e1723496028740.jpg
ORGANIZER;CN="Nathan English":MAILTO:nenglish@crossroads-bible.org
END:VEVENT
BEGIN:VEVENT
DTSTART;TZID=America/Detroit:20250418T180000
DTEND;TZID=America/Detroit:20250418T210000
DTSTAMP:20260424T013716
CREATED:20240830T185121Z
LAST-MODIFIED:20250402T190737Z
UID:10006800-1744999200-1745010000@crossroads-bible.org
SUMMARY:Good Friday Gathering
DESCRIPTION:Join us for a time of prayer and reflection on Good Friday as we share in the liturgy of the Stations of the Cross. \nThe gathering space will be open and available from 6-9pm in an open house format\, where you are invited to participate in the stations at your own pace. Whether you enter on your own\, with your family\, or participate as a house church\, you will receive information as you arrive to help offer guidance for the evening. You can anticipate setting aside an hour to engage with all the stations\, however you are welcome to take as long as you would like. \nNo Crossroads Kids will be available\, but families are welcome.
URL:https://crossroads-bible.org/event/good-friday-gathering-2/
LOCATION:Crossroads Gathering Space\, 800 Scribner NW\, Grand Rapids\, MI\, 49504\, United States
CATEGORIES:All Church Gathering,College,Post-College,Students
ATTACH;FMTTYPE=image/jpeg:https://crossroads-bible.org/wp-content/uploads/2024/08/3-30_good-fri_event.jpg
END:VEVENT
BEGIN:VEVENT
DTSTART;TZID=America/Detroit:20250427T180000
DTEND;TZID=America/Detroit:20250427T200000
DTSTAMP:20260424T013716
CREATED:20240904T150359Z
LAST-MODIFIED:20240904T150359Z
UID:10006836-1745776800-1745784000@crossroads-bible.org
SUMMARY:Students | Large Group
DESCRIPTION:Every other week\, middle school and high school students come together as a united group to deepen their walk with Christ. We center our time around the Word of God\, engaging in dynamic worship\, heartfelt discussion\, and meaningful activities that foster authentic relationships. These gatherings are a space where students can connect\, grow\, and be encouraged in their faith journey. \n 
URL:https://crossroads-bible.org/event/students-large-group-6/
LOCATION:Crossroads Bible Church\, 800 Scribner NW\, Grand Rapids\, 49504\, United States
CATEGORIES:Families,Students
ATTACH;FMTTYPE=image/jpeg:https://crossroads-bible.org/wp-content/uploads/2024/08/R6_15738-scaled-e1723496028740.jpg
ORGANIZER;CN="Molly Vedders":MAILTO:mvedders@crossroads-bible.org
END:VEVENT
END:VCALENDAR