BEGIN:VCALENDAR
VERSION:2.0
PRODID:-//Crossroads Bible Church - ECPv6.15.20//NONSGML v1.0//EN
CALSCALE:GREGORIAN
METHOD:PUBLISH
X-WR-CALNAME:Crossroads Bible Church
X-ORIGINAL-URL:https://crossroads-bible.org
X-WR-CALDESC:Events for Crossroads Bible Church
REFRESH-INTERVAL;VALUE=DURATION:PT1H
X-Robots-Tag:noindex
X-PUBLISHED-TTL:PT1H
BEGIN:VTIMEZONE
TZID:America/Detroit
BEGIN:DAYLIGHT
TZOFFSETFROM:-0500
TZOFFSETTO:-0400
TZNAME:EDT
DTSTART:20240310T070000
END:DAYLIGHT
BEGIN:STANDARD
TZOFFSETFROM:-0400
TZOFFSETTO:-0500
TZNAME:EST
DTSTART:20241103T060000
END:STANDARD
BEGIN:DAYLIGHT
TZOFFSETFROM:-0500
TZOFFSETTO:-0400
TZNAME:EDT
DTSTART:20250309T070000
END:DAYLIGHT
BEGIN:STANDARD
TZOFFSETFROM:-0400
TZOFFSETTO:-0500
TZNAME:EST
DTSTART:20251102T060000
END:STANDARD
BEGIN:DAYLIGHT
TZOFFSETFROM:-0500
TZOFFSETTO:-0400
TZNAME:EDT
DTSTART:20260308T070000
END:DAYLIGHT
BEGIN:STANDARD
TZOFFSETFROM:-0400
TZOFFSETTO:-0500
TZNAME:EST
DTSTART:20261101T060000
END:STANDARD
END:VTIMEZONE
BEGIN:VEVENT
DTSTART;TZID=America/Detroit:20250504T180000
DTEND;TZID=America/Detroit:20250504T200000
DTSTAMP:20260421T043255
CREATED:20240904T165916Z
LAST-MODIFIED:20240904T165916Z
UID:10006852-1746381600-1746388800@crossroads-bible.org
SUMMARY:Students | Small Groups
DESCRIPTION:At Outpost\, our small groups are where deep connections and impactful discipleship happen. Meeting twice a month\, these groups are divided by grade and gender to foster a comfortable environment for students to grow in their faith alongside peers. Each group is led by caring adults who are passionate about mentoring and guiding students in their spiritual journey. These gatherings take place at Crossroads or in various locations nearby\, providing an intimate setting for meaningful discussions\, prayer\, and growth. Small groups meet on the alternate night of our large group gatherings. \n 
URL:https://crossroads-bible.org/event/students-small-groups-5/
LOCATION:Crossroads Bible Church\, 800 Scribner NW\, Grand Rapids\, 49504\, United States
CATEGORIES:Families,Students
ATTACH;FMTTYPE=image/jpeg:https://crossroads-bible.org/wp-content/uploads/2024/08/R6_15738-scaled-e1723496028740.jpg
ORGANIZER;CN="Molly Vedders":MAILTO:mvedders@crossroads-bible.org
END:VEVENT
BEGIN:VEVENT
DTSTART;TZID=America/Detroit:20250518T180000
DTEND;TZID=America/Detroit:20250518T200000
DTSTAMP:20260421T043255
CREATED:20240904T150639Z
LAST-MODIFIED:20240904T150639Z
UID:10006838-1747591200-1747598400@crossroads-bible.org
SUMMARY:Students | Large Group
DESCRIPTION:Every other week\, middle school and high school students come together as a united group to deepen their walk with Christ. We center our time around the Word of God\, engaging in dynamic worship\, heartfelt discussion\, and meaningful activities that foster authentic relationships. These gatherings are a space where students can connect\, grow\, and be encouraged in their faith journey. \n 
URL:https://crossroads-bible.org/event/students-large-group-7/
LOCATION:Crossroads Bible Church\, 800 Scribner NW\, Grand Rapids\, 49504\, United States
CATEGORIES:Families,Students
ATTACH;FMTTYPE=image/jpeg:https://crossroads-bible.org/wp-content/uploads/2024/08/R6_15738-scaled-e1723496028740.jpg
ORGANIZER;CN="Molly Vedders":MAILTO:mvedders@crossroads-bible.org
END:VEVENT
BEGIN:VEVENT
DTSTART;TZID=America/Detroit:20250525T180000
DTEND;TZID=America/Detroit:20250525T200000
DTSTAMP:20260421T043255
CREATED:20240904T165936Z
LAST-MODIFIED:20240904T165936Z
UID:10006853-1748196000-1748203200@crossroads-bible.org
SUMMARY:Students | Small Groups
DESCRIPTION:At Outpost\, our small groups are where deep connections and impactful discipleship happen. Meeting twice a month\, these groups are divided by grade and gender to foster a comfortable environment for students to grow in their faith alongside peers. Each group is led by caring adults who are passionate about mentoring and guiding students in their spiritual journey. These gatherings take place at Crossroads or in various locations nearby\, providing an intimate setting for meaningful discussions\, prayer\, and growth. Small groups meet on the alternate night of our large group gatherings. \n 
URL:https://crossroads-bible.org/event/students-small-groups-6/
LOCATION:Crossroads Bible Church\, 800 Scribner NW\, Grand Rapids\, 49504\, United States
CATEGORIES:Families,Students
ATTACH;FMTTYPE=image/jpeg:https://crossroads-bible.org/wp-content/uploads/2024/08/R6_15738-scaled-e1723496028740.jpg
ORGANIZER;CN="Molly Vedders":MAILTO:mvedders@crossroads-bible.org
END:VEVENT
END:VCALENDAR