BEGIN:VCALENDAR
VERSION:2.0
PRODID:-//Crossroads Bible Church - ECPv6.15.20//NONSGML v1.0//EN
CALSCALE:GREGORIAN
METHOD:PUBLISH
X-WR-CALNAME:Crossroads Bible Church
X-ORIGINAL-URL:https://crossroads-bible.org
X-WR-CALDESC:Events for Crossroads Bible Church
REFRESH-INTERVAL;VALUE=DURATION:PT1H
X-Robots-Tag:noindex
X-PUBLISHED-TTL:PT1H
BEGIN:VTIMEZONE
TZID:America/Detroit
BEGIN:DAYLIGHT
TZOFFSETFROM:-0500
TZOFFSETTO:-0400
TZNAME:EDT
DTSTART:20240310T070000
END:DAYLIGHT
BEGIN:STANDARD
TZOFFSETFROM:-0400
TZOFFSETTO:-0500
TZNAME:EST
DTSTART:20241103T060000
END:STANDARD
BEGIN:DAYLIGHT
TZOFFSETFROM:-0500
TZOFFSETTO:-0400
TZNAME:EDT
DTSTART:20250309T070000
END:DAYLIGHT
BEGIN:STANDARD
TZOFFSETFROM:-0400
TZOFFSETTO:-0500
TZNAME:EST
DTSTART:20251102T060000
END:STANDARD
BEGIN:DAYLIGHT
TZOFFSETFROM:-0500
TZOFFSETTO:-0400
TZNAME:EDT
DTSTART:20260308T070000
END:DAYLIGHT
BEGIN:STANDARD
TZOFFSETFROM:-0400
TZOFFSETTO:-0500
TZNAME:EST
DTSTART:20261101T060000
END:STANDARD
END:VTIMEZONE
BEGIN:VEVENT
DTSTART;TZID=America/Detroit:20251003T180000
DTEND;TZID=America/Detroit:20251003T190000
DTSTAMP:20260421T205336
CREATED:20250923T200357Z
LAST-MODIFIED:20250923T201845Z
UID:10009419-1759514400-1759518000@crossroads-bible.org
SUMMARY:Outpost Middle School Tailgate
DESCRIPTION:We’re excited to host an Outpost 68 Tailgate on Friday\, October 3 at the Grandville vs. Jenison varsity football game! \nJoin us in the Grandville High School Parking Lot for hot dogs\, burgers\, yard games\, and community. This is a “front porch” event\, a space where we encourage inviting friends who may be looking for a place to belong\, and where we seek to reach more students in the community. After the tailgate\, students can either head into the game together ($6 entry) or get picked up. \nPlease note: we will not be supervising students inside the game. \nFor more information about Outpost\, please contact Molly.
URL:https://crossroads-bible.org/event/outpost-middle-school-tailgate/
LOCATION:Grandville High School\, 4700 Canal Ave SW\, Grandville\, Michigan\, 49418
CATEGORIES:Families,Students
ATTACH;FMTTYPE=image/jpeg:https://crossroads-bible.org/wp-content/uploads/2025/09/raymond-petrik-bbkIbELRxvM-unsplash-1-scaled-e1758657795831.jpg
END:VEVENT
BEGIN:VEVENT
DTSTART;TZID=America/Detroit:20251005T180000
DTEND;TZID=America/Detroit:20251005T200000
DTSTAMP:20260421T205336
CREATED:20250922T200459Z
LAST-MODIFIED:20250922T200459Z
UID:10009377-1759687200-1759694400@crossroads-bible.org
SUMMARY:Outpost (6th-12th) | Large Group
DESCRIPTION:The Outpost is a place for middle and high school students to belong\, grow\, and be challenged in their faith. The name Outpost reflects our desire to raise and encourage the next generation to be outposts of Christ in their schools\, neighborhoods\, and everyday spaces. Our hope is to see students raised up as devoted\, wholehearted followers of Christ\, equipped to understand who they are in Him and the purpose He has for their lives. \nEvery other week\, middle school and high school students come together as a united group to deepen their walk with Christ. We center our time around the Word of God\, engaging in dynamic worship\, heartfelt discussion\, and meaningful activities that foster authentic relationships. These gatherings are a space where students can connect\, grow\, and be encouraged in their faith journey. \nTo learn more about The Outpost\, please click here.
URL:https://crossroads-bible.org/event/outpost-6th-12th-large-group/2025-10-05/
LOCATION:Crossroads Bible Church\, 800 Scribner NW\, Grand Rapids\, 49504\, United States
CATEGORIES:Families,Students
ATTACH;FMTTYPE=image/jpeg:https://crossroads-bible.org/wp-content/uploads/2025/01/R6_14334-Enhanced-NR-scaled-2-e1737490768153.jpg
ORGANIZER;CN="Molly Vedders":MAILTO:mvedders@crossroads-bible.org
END:VEVENT
BEGIN:VEVENT
DTSTART;TZID=America/Detroit:20251008T190000
DTEND;TZID=America/Detroit:20251008T200000
DTSTAMP:20260421T205336
CREATED:20250812T141247Z
LAST-MODIFIED:20250930T164756Z
UID:10008762-1759950000-1759953600@crossroads-bible.org
SUMMARY:Prayer & Worship Night
DESCRIPTION:Join us for a churchwide evening of prayer and worship\, during our week of 24/7 prayer. We encourage you to join us as we pause midweek to center our hearts on the Lord\, praising Him for his faithfulness and praying for His Kingdom to come. No childcare is provided but families are welcome to attend.
URL:https://crossroads-bible.org/event/prayer-worship-night-7/
LOCATION:Crossroads Gathering Space\, 800 Scribner NW\, Grand Rapids\, MI\, 49504\, United States
CATEGORIES:All Church Gathering,College,Post-College,Students
ATTACH;FMTTYPE=image/jpeg:https://crossroads-bible.org/wp-content/uploads/2025/03/good-friday-2024-2-scaled.jpg
END:VEVENT
BEGIN:VEVENT
DTSTART;TZID=America/Detroit:20251012T180000
DTEND;TZID=America/Detroit:20251012T200000
DTSTAMP:20260421T205336
CREATED:20250922T202155Z
LAST-MODIFIED:20250922T202155Z
UID:10009398-1760292000-1760299200@crossroads-bible.org
SUMMARY:Outpost (6th-12th) | Small Groups
DESCRIPTION:The Outpost is a place for middle and high school students to belong\, grow\, and be challenged in their faith. The name Outpost reflects our desire to raise and encourage the next generation to be outposts of Christ in their schools\, neighborhoods\, and everyday spaces. Our hope is to see students raised up as devoted\, wholehearted followers of Christ\, equipped to understand who they are in Him and the purpose He has for their lives. \nAt Outpost\, our small groups are where deep connections and impactful discipleship happen. Meeting twice a month\, these groups are divided by grade and gender to foster a comfortable environment for students to grow in their faith alongside peers. Each group is led by caring adults who are passionate about mentoring and guiding students in their spiritual journey. These gatherings take place at Crossroads or in various locations nearby\, providing an intimate setting for meaningful discussions\, prayer\, and growth. Small groups meet on the alternate night of our large group gatherings. \nTo learn more about The Outpost\, please click here.
URL:https://crossroads-bible.org/event/outpost-6th-12th-small-groups/2025-10-12/
LOCATION:Crossroads Bible Church\, 800 Scribner NW\, Grand Rapids\, 49504\, United States
CATEGORIES:Families,Students
ATTACH;FMTTYPE=image/jpeg:https://crossroads-bible.org/wp-content/uploads/2025/01/R6_14334-Enhanced-NR-scaled-2-e1737490768153.jpg
ORGANIZER;CN="Molly Vedders":MAILTO:mvedders@crossroads-bible.org
END:VEVENT
BEGIN:VEVENT
DTSTART;TZID=America/Detroit:20251019T180000
DTEND;TZID=America/Detroit:20251019T200000
DTSTAMP:20260421T205336
CREATED:20250922T200459Z
LAST-MODIFIED:20250922T200459Z
UID:10009378-1760896800-1760904000@crossroads-bible.org
SUMMARY:Outpost (6th-12th) | Large Group
DESCRIPTION:The Outpost is a place for middle and high school students to belong\, grow\, and be challenged in their faith. The name Outpost reflects our desire to raise and encourage the next generation to be outposts of Christ in their schools\, neighborhoods\, and everyday spaces. Our hope is to see students raised up as devoted\, wholehearted followers of Christ\, equipped to understand who they are in Him and the purpose He has for their lives. \nEvery other week\, middle school and high school students come together as a united group to deepen their walk with Christ. We center our time around the Word of God\, engaging in dynamic worship\, heartfelt discussion\, and meaningful activities that foster authentic relationships. These gatherings are a space where students can connect\, grow\, and be encouraged in their faith journey. \nTo learn more about The Outpost\, please click here.
URL:https://crossroads-bible.org/event/outpost-6th-12th-large-group/2025-10-19/
LOCATION:Crossroads Bible Church\, 800 Scribner NW\, Grand Rapids\, 49504\, United States
CATEGORIES:Families,Students
ATTACH;FMTTYPE=image/jpeg:https://crossroads-bible.org/wp-content/uploads/2025/01/R6_14334-Enhanced-NR-scaled-2-e1737490768153.jpg
ORGANIZER;CN="Molly Vedders":MAILTO:mvedders@crossroads-bible.org
END:VEVENT
BEGIN:VEVENT
DTSTART;TZID=America/Detroit:20251025T190000
DTEND;TZID=America/Detroit:20251025T210000
DTSTAMP:20260421T205336
CREATED:20250923T154908Z
LAST-MODIFIED:20251014T192921Z
UID:10009417-1761418800-1761426000@crossroads-bible.org
SUMMARY:Outpost High School Bonfire
DESCRIPTION:We are hosting a high school bonfire on October 25! Come hang out\, enjoy s’mores\, and take in all the fall vibes with friends around the fire. This is a “front porch” event\, a space where we encourage inviting friends who may be looking for a place to belong\, and where we seek to reach more students in the community.
URL:https://crossroads-bible.org/event/outpost-high-school-bonfire/
CATEGORIES:Students
ATTACH;FMTTYPE=image/jpeg:https://crossroads-bible.org/wp-content/uploads/2024/08/robert-bye-QGdZpOUxvpU-unsplash-scaled.jpg
ORGANIZER;CN="Molly Vedders":MAILTO:mvedders@crossroads-bible.org
END:VEVENT
BEGIN:VEVENT
DTSTART;TZID=America/Detroit:20251026T180000
DTEND;TZID=America/Detroit:20251026T200000
DTSTAMP:20260421T205336
CREATED:20250922T202155Z
LAST-MODIFIED:20250922T202155Z
UID:10009399-1761501600-1761508800@crossroads-bible.org
SUMMARY:Outpost (6th-12th) | Small Groups
DESCRIPTION:The Outpost is a place for middle and high school students to belong\, grow\, and be challenged in their faith. The name Outpost reflects our desire to raise and encourage the next generation to be outposts of Christ in their schools\, neighborhoods\, and everyday spaces. Our hope is to see students raised up as devoted\, wholehearted followers of Christ\, equipped to understand who they are in Him and the purpose He has for their lives. \nAt Outpost\, our small groups are where deep connections and impactful discipleship happen. Meeting twice a month\, these groups are divided by grade and gender to foster a comfortable environment for students to grow in their faith alongside peers. Each group is led by caring adults who are passionate about mentoring and guiding students in their spiritual journey. These gatherings take place at Crossroads or in various locations nearby\, providing an intimate setting for meaningful discussions\, prayer\, and growth. Small groups meet on the alternate night of our large group gatherings. \nTo learn more about The Outpost\, please click here.
URL:https://crossroads-bible.org/event/outpost-6th-12th-small-groups/2025-10-26/
LOCATION:Crossroads Bible Church\, 800 Scribner NW\, Grand Rapids\, 49504\, United States
CATEGORIES:Families,Students
ATTACH;FMTTYPE=image/jpeg:https://crossroads-bible.org/wp-content/uploads/2025/01/R6_14334-Enhanced-NR-scaled-2-e1737490768153.jpg
ORGANIZER;CN="Molly Vedders":MAILTO:mvedders@crossroads-bible.org
END:VEVENT
END:VCALENDAR