BEGIN:VCALENDAR
VERSION:2.0
PRODID:-//Crossroads Bible Church - ECPv6.15.20//NONSGML v1.0//EN
CALSCALE:GREGORIAN
METHOD:PUBLISH
X-WR-CALNAME:Crossroads Bible Church
X-ORIGINAL-URL:https://crossroads-bible.org
X-WR-CALDESC:Events for Crossroads Bible Church
REFRESH-INTERVAL;VALUE=DURATION:PT1H
X-Robots-Tag:noindex
X-PUBLISHED-TTL:PT1H
BEGIN:VTIMEZONE
TZID:America/Detroit
BEGIN:DAYLIGHT
TZOFFSETFROM:-0500
TZOFFSETTO:-0400
TZNAME:EDT
DTSTART:20240310T070000
END:DAYLIGHT
BEGIN:STANDARD
TZOFFSETFROM:-0400
TZOFFSETTO:-0500
TZNAME:EST
DTSTART:20241103T060000
END:STANDARD
BEGIN:DAYLIGHT
TZOFFSETFROM:-0500
TZOFFSETTO:-0400
TZNAME:EDT
DTSTART:20250309T070000
END:DAYLIGHT
BEGIN:STANDARD
TZOFFSETFROM:-0400
TZOFFSETTO:-0500
TZNAME:EST
DTSTART:20251102T060000
END:STANDARD
BEGIN:DAYLIGHT
TZOFFSETFROM:-0500
TZOFFSETTO:-0400
TZNAME:EDT
DTSTART:20260308T070000
END:DAYLIGHT
BEGIN:STANDARD
TZOFFSETFROM:-0400
TZOFFSETTO:-0500
TZNAME:EST
DTSTART:20261101T060000
END:STANDARD
END:VTIMEZONE
BEGIN:VEVENT
DTSTART;VALUE=DATE:20250228
DTEND;VALUE=DATE:20250303
DTSTAMP:20260424T095800
CREATED:20240816T211044Z
LAST-MODIFIED:20240816T211044Z
UID:10006704-1740700800-1740959999@crossroads-bible.org
SUMMARY:Students | Ski Trip
DESCRIPTION:Students\, get ready for an awesome ski trip! We’ll be heading to Center Lake Bible Camp to hang out and enjoy each other’s company\, and we’ll spend all day Saturday skiing at Caberfae. It’s going to be a blast\, so don’t miss out! \nSign Up
URL:https://crossroads-bible.org/event/students-ski-trip/
LOCATION:Center Lake Bible Camp\, 15204 20 Mile Rd\, Tustin\, MI\, 49688
CATEGORIES:Families,Students
ATTACH;FMTTYPE=image/jpeg:https://crossroads-bible.org/wp-content/uploads/2024/08/R6_15738-scaled-e1723496028740.jpg
ORGANIZER;CN="Molly Vedders":MAILTO:mvedders@crossroads-bible.org
END:VEVENT
BEGIN:VEVENT
DTSTART;TZID=America/Detroit:20250302T180000
DTEND;TZID=America/Detroit:20250302T200000
DTSTAMP:20260424T095800
CREATED:20240904T165747Z
LAST-MODIFIED:20240904T165747Z
UID:10006849-1740938400-1740945600@crossroads-bible.org
SUMMARY:Students | Small Groups
DESCRIPTION:At Outpost\, our small groups are where deep connections and impactful discipleship happen. Meeting twice a month\, these groups are divided by grade and gender to foster a comfortable environment for students to grow in their faith alongside peers. Each group is led by caring adults who are passionate about mentoring and guiding students in their spiritual journey. These gatherings take place at Crossroads or in various locations nearby\, providing an intimate setting for meaningful discussions\, prayer\, and growth. Small groups meet on the alternate night of our large group gatherings. \n 
URL:https://crossroads-bible.org/event/students-small-groups-4/2025-03-02/
LOCATION:Crossroads Bible Church\, 800 Scribner NW\, Grand Rapids\, 49504\, United States
CATEGORIES:Families,Students
ATTACH;FMTTYPE=image/jpeg:https://crossroads-bible.org/wp-content/uploads/2024/08/R6_15738-scaled-e1723496028740.jpg
ORGANIZER;CN="Molly Vedders":MAILTO:mvedders@crossroads-bible.org
END:VEVENT
END:VCALENDAR