BEGIN:VCALENDAR
VERSION:2.0
PRODID:-//Crossroads Bible Church - ECPv6.15.20//NONSGML v1.0//EN
CALSCALE:GREGORIAN
METHOD:PUBLISH
X-ORIGINAL-URL:https://crossroads-bible.org
X-WR-CALDESC:Events for Crossroads Bible Church
REFRESH-INTERVAL;VALUE=DURATION:PT1H
X-Robots-Tag:noindex
X-PUBLISHED-TTL:PT1H
BEGIN:VTIMEZONE
TZID:America/Detroit
BEGIN:DAYLIGHT
TZOFFSETFROM:-0500
TZOFFSETTO:-0400
TZNAME:EDT
DTSTART:20240310T070000
END:DAYLIGHT
BEGIN:STANDARD
TZOFFSETFROM:-0400
TZOFFSETTO:-0500
TZNAME:EST
DTSTART:20241103T060000
END:STANDARD
BEGIN:DAYLIGHT
TZOFFSETFROM:-0500
TZOFFSETTO:-0400
TZNAME:EDT
DTSTART:20250309T070000
END:DAYLIGHT
BEGIN:STANDARD
TZOFFSETFROM:-0400
TZOFFSETTO:-0500
TZNAME:EST
DTSTART:20251102T060000
END:STANDARD
BEGIN:DAYLIGHT
TZOFFSETFROM:-0500
TZOFFSETTO:-0400
TZNAME:EDT
DTSTART:20260308T070000
END:DAYLIGHT
BEGIN:STANDARD
TZOFFSETFROM:-0400
TZOFFSETTO:-0500
TZNAME:EST
DTSTART:20261101T060000
END:STANDARD
END:VTIMEZONE
BEGIN:VEVENT
DTSTART;VALUE=DATE:20250617
DTEND;VALUE=DATE:20250618
DTSTAMP:20260421T151051
CREATED:20250514T174153Z
LAST-MODIFIED:20250515T184543Z
UID:10008445-1750118400-1750204799@crossroads-bible.org
SUMMARY:Outpost | Cedar Point Trip
DESCRIPTION:Middle and high schoolers\, we’re spending the day at Cedar Point! Join us for rides\, time with friends\, and a break from the usual routine. It’s a great chance to connect and enjoy summer together. Don’t forget to sign up—spots are limited! \nSign Up Here
URL:https://crossroads-bible.org/event/outpost-cedar-point-trip/
LOCATION:Cedar Point\, 1 Cedar Point Blvd\, Sandusky\, OH\, 44870
CATEGORIES:Students
ORGANIZER;CN="Molly Vedders":MAILTO:mvedders@crossroads-bible.org
END:VEVENT
END:VCALENDAR