BEGIN:VCALENDAR
VERSION:2.0
PRODID:-//Crossroads Bible Church - ECPv6.15.20//NONSGML v1.0//EN
CALSCALE:GREGORIAN
METHOD:PUBLISH
X-WR-CALNAME:Crossroads Bible Church
X-ORIGINAL-URL:https://crossroads-bible.org
X-WR-CALDESC:Events for Crossroads Bible Church
REFRESH-INTERVAL;VALUE=DURATION:PT1H
X-Robots-Tag:noindex
X-PUBLISHED-TTL:PT1H
BEGIN:VTIMEZONE
TZID:America/Detroit
BEGIN:DAYLIGHT
TZOFFSETFROM:-0500
TZOFFSETTO:-0400
TZNAME:EDT
DTSTART:20240310T070000
END:DAYLIGHT
BEGIN:STANDARD
TZOFFSETFROM:-0400
TZOFFSETTO:-0500
TZNAME:EST
DTSTART:20241103T060000
END:STANDARD
BEGIN:DAYLIGHT
TZOFFSETFROM:-0500
TZOFFSETTO:-0400
TZNAME:EDT
DTSTART:20250309T070000
END:DAYLIGHT
BEGIN:STANDARD
TZOFFSETFROM:-0400
TZOFFSETTO:-0500
TZNAME:EST
DTSTART:20251102T060000
END:STANDARD
BEGIN:DAYLIGHT
TZOFFSETFROM:-0500
TZOFFSETTO:-0400
TZNAME:EDT
DTSTART:20260308T070000
END:DAYLIGHT
BEGIN:STANDARD
TZOFFSETFROM:-0400
TZOFFSETTO:-0500
TZNAME:EST
DTSTART:20261101T060000
END:STANDARD
END:VTIMEZONE
BEGIN:VEVENT
DTSTART;TZID=America/Detroit:20250505T181500
DTEND;TZID=America/Detroit:20250505T200000
DTSTAMP:20260424T183328
CREATED:20250310T215537Z
LAST-MODIFIED:20250310T215537Z
UID:10007688-1746468900-1746475200@crossroads-bible.org
SUMMARY:Men's Softball League
DESCRIPTION:Join us for our 2025 season of softball! We start play Monday\, May 5th at 6:15pm at the Alpine Elementary Fields. The season is 10-weeks of regular season plus 2-weeks of playoffs\, ending July 28th. \nWe will not be playing on Memorial Day. \nAddress is 4730 Baumhoff Ave NW\, Comstock Park\, MI 49321 \nReturning players\, please select the name of your coach. \nIf you are new please select “I’m New” on the coaches question. And include your experience level in the space below. \nThere are limited spots available\, please sign up as soon as you’re able. \nSign Up Here
URL:https://crossroads-bible.org/event/mens-softball-league-2/2025-05-05/
LOCATION:Alpine Elementary\, 4730 Baumhoff Ave NW\, Comstock Park\, MI\, 49321
CATEGORIES:Men
ATTACH;FMTTYPE=image/jpeg:https://crossroads-bible.org/wp-content/uploads/2024/04/3-24_men-softball_event.jpg
ORGANIZER;CN="Brittney Burrell":MAILTO:bburrell@crossroads-bible.org
END:VEVENT
BEGIN:VEVENT
DTSTART;TZID=America/Detroit:20250505T190000
DTEND;TZID=America/Detroit:20250505T203000
DTSTAMP:20260424T183328
CREATED:20241211T182411Z
LAST-MODIFIED:20241211T182411Z
UID:10007498-1746471600-1746477000@crossroads-bible.org
SUMMARY:GriefShare
DESCRIPTION:No matter the cause of your loved one’s death\, this is an opportunity to be around people who understand what you are feeling. \nYou will learn valuable information on facing life situations\, recognize symptoms of normal emotions and those of being stuck\, and you’ll gain renewed hope for the future. These sessions are open to any adult regardless of whether your experience is recent or not so recent. The group is led by individuals who have personally experienced grief due to a loved one’s death. \nEach week includes a DVD teaching time followed by group discussion on topics relevant to your situation. You will also receive a workbook to keep you engaged throughout the week. Our hope is that you will find encouragement\, help\, and healing in grieving the death of your loved one. \nThis group will meet from February 10–May 5. If you are interested in joining or connecting with someone\, please email Jean. \nRegister Here
URL:https://crossroads-bible.org/event/griefshare-4/2025-05-05/
LOCATION:Crossroads Cave\, 800 Scribner NW\, Grand Rapids\, MI\, 49504\, United States
CATEGORIES:Community Care,Men,Women
ATTACH;FMTTYPE=image/jpeg:https://crossroads-bible.org/wp-content/uploads/2023/09/pexels-alex-green-5700205-2-scaled.jpg
ORGANIZER;CN="Jean Ballance":MAILTO:jballance@crossroads-bible.org
END:VEVENT
END:VCALENDAR