BEGIN:VCALENDAR
VERSION:2.0
PRODID:-//Crossroads Bible Church - ECPv6.15.20//NONSGML v1.0//EN
CALSCALE:GREGORIAN
METHOD:PUBLISH
X-ORIGINAL-URL:https://crossroads-bible.org
X-WR-CALDESC:Events for Crossroads Bible Church
REFRESH-INTERVAL;VALUE=DURATION:PT1H
X-Robots-Tag:noindex
X-PUBLISHED-TTL:PT1H
BEGIN:VTIMEZONE
TZID:America/Detroit
BEGIN:DAYLIGHT
TZOFFSETFROM:-0500
TZOFFSETTO:-0400
TZNAME:EDT
DTSTART:20240310T070000
END:DAYLIGHT
BEGIN:STANDARD
TZOFFSETFROM:-0400
TZOFFSETTO:-0500
TZNAME:EST
DTSTART:20241103T060000
END:STANDARD
BEGIN:DAYLIGHT
TZOFFSETFROM:-0500
TZOFFSETTO:-0400
TZNAME:EDT
DTSTART:20250309T070000
END:DAYLIGHT
BEGIN:STANDARD
TZOFFSETFROM:-0400
TZOFFSETTO:-0500
TZNAME:EST
DTSTART:20251102T060000
END:STANDARD
BEGIN:DAYLIGHT
TZOFFSETFROM:-0500
TZOFFSETTO:-0400
TZNAME:EDT
DTSTART:20260308T070000
END:DAYLIGHT
BEGIN:STANDARD
TZOFFSETFROM:-0400
TZOFFSETTO:-0500
TZNAME:EST
DTSTART:20261101T060000
END:STANDARD
END:VTIMEZONE
BEGIN:VEVENT
DTSTART;VALUE=DATE:20250606
DTEND;VALUE=DATE:20250609
DTSTAMP:20260425T071341
CREATED:20250310T182322Z
LAST-MODIFIED:20250310T182436Z
UID:10007675-1749168000-1749427199@crossroads-bible.org
SUMMARY:Father/Son Canoe Trip
DESCRIPTION:We are excited to invite fathers and sons\, as well as uncles\, mentors\, grandfathers\, and friends to join with a young person on our annual canoe trip. The retreat will be a combination of camping\, canoeing\, sharing meals\, campfires\, and simply enjoying time together. \nThe weekend includes camping for two nights\, canoe rental\, breakfast (both days)\, lunch on the river and dinner Saturday. It is tent and pop-up camping\, with no electric or water hook-up. Access to showers is about a half-mile from the campsites. \nSign Up Here
URL:https://crossroads-bible.org/event/father-son-canoe-trip-2/
LOCATION:Rifle River\, Sterling\, Michigan\, 48659
CATEGORIES:Men
ATTACH;FMTTYPE=image/jpeg:https://crossroads-bible.org/wp-content/uploads/2024/02/IMG_0342-scaled.jpg
ORGANIZER;CN="Jeremy Hess":MAILTO:jeremy.hess@gmail.com
END:VEVENT
BEGIN:VEVENT
DTSTART;TZID=America/Detroit:20250607T073000
DTEND;TZID=America/Detroit:20250607T090000
DTSTAMP:20260425T071341
CREATED:20230825T012213Z
LAST-MODIFIED:20250203T174842Z
UID:10004062-1749281400-1749286800@crossroads-bible.org
SUMMARY:Men's | Avenue Group
DESCRIPTION:Relationship struggles and sexual brokenness can make you feel ashamed\, trapped\, and alone. For over 20 years\, Avenue has helped people restore their lives and relationships. Get into this private healing group for men and experience Biblically sound materials\, a supportive environment\, and both accountability and encouragement. \nDon’t wait! Sexual struggles can be so difficult to talk about\, but once you have shined the light on your struggle\, the power it has over you will begin to weaken. You need a supportive community. \nPlease call or text Matt Guy (616-262-7758) prior to joining. \nTo learn more about On Men’s Ministry\, click here.
URL:https://crossroads-bible.org/event/mens-ministry-avenue-group/2025-06-07/
LOCATION:Crossroads Bible Church\, 800 Scribner NW\, Grand Rapids\, 49504\, United States
CATEGORIES:Men
ATTACH;FMTTYPE=image/webp:https://crossroads-bible.org/wp-content/uploads/2023/08/lightstock294649xsmallsusanallen.webp
END:VEVENT
END:VCALENDAR