BEGIN:VCALENDAR
VERSION:2.0
PRODID:-//Crossroads Bible Church - ECPv6.15.20//NONSGML v1.0//EN
CALSCALE:GREGORIAN
METHOD:PUBLISH
X-ORIGINAL-URL:https://crossroads-bible.org
X-WR-CALDESC:Events for Crossroads Bible Church
REFRESH-INTERVAL;VALUE=DURATION:PT1H
X-Robots-Tag:noindex
X-PUBLISHED-TTL:PT1H
BEGIN:VTIMEZONE
TZID:America/Detroit
BEGIN:DAYLIGHT
TZOFFSETFROM:-0500
TZOFFSETTO:-0400
TZNAME:EDT
DTSTART:20250309T070000
END:DAYLIGHT
BEGIN:STANDARD
TZOFFSETFROM:-0400
TZOFFSETTO:-0500
TZNAME:EST
DTSTART:20251102T060000
END:STANDARD
BEGIN:DAYLIGHT
TZOFFSETFROM:-0500
TZOFFSETTO:-0400
TZNAME:EDT
DTSTART:20260308T070000
END:DAYLIGHT
BEGIN:STANDARD
TZOFFSETFROM:-0400
TZOFFSETTO:-0500
TZNAME:EST
DTSTART:20261101T060000
END:STANDARD
BEGIN:DAYLIGHT
TZOFFSETFROM:-0500
TZOFFSETTO:-0400
TZNAME:EDT
DTSTART:20270314T070000
END:DAYLIGHT
BEGIN:STANDARD
TZOFFSETFROM:-0400
TZOFFSETTO:-0500
TZNAME:EST
DTSTART:20271107T060000
END:STANDARD
END:VTIMEZONE
BEGIN:VEVENT
DTSTART;TZID=America/Detroit:20260608T181500
DTEND;TZID=America/Detroit:20260608T203000
DTSTAMP:20260421T110803
CREATED:20260326T190056Z
LAST-MODIFIED:20260326T190056Z
UID:10010359-1780942500-1780950600@crossroads-bible.org
SUMMARY:Men's Softball League
DESCRIPTION:Join us for our 2026 season of softball! Opening day is Monday\, May 4th at 6:00pm at the Alpine Township Sports Complex Fields. The season is 10-weeks of regular season (6:15-8:30) and closing with a Tournament/Cookout on Saturday\, July 25 (subject to change due to weather or scheduling). \n**We will not be playing Memorial Day** \nThere are limited spots available\, please sign up as soon as you’re able. \nSign Up Here
URL:https://crossroads-bible.org/event/mens-softball-league-3/2026-06-08/
LOCATION:Alpine Elementary\, 4730 Baumhoff Ave NW\, Comstock Park\, MI\, 49321
CATEGORIES:Men
ATTACH;FMTTYPE=image/jpeg:https://crossroads-bible.org/wp-content/uploads/2024/04/3-24_men-softball_event.jpg
ORGANIZER;CN="Brittney Burrell":MAILTO:bburrell@crossroads-bible.org
END:VEVENT
END:VCALENDAR