BEGIN:VCALENDAR
VERSION:2.0
PRODID:-//Crossroads Bible Church - ECPv6.15.20//NONSGML v1.0//EN
CALSCALE:GREGORIAN
METHOD:PUBLISH
X-WR-CALNAME:Crossroads Bible Church
X-ORIGINAL-URL:https://crossroads-bible.org
X-WR-CALDESC:Events for Crossroads Bible Church
REFRESH-INTERVAL;VALUE=DURATION:PT1H
X-Robots-Tag:noindex
X-PUBLISHED-TTL:PT1H
BEGIN:VTIMEZONE
TZID:America/Detroit
BEGIN:DAYLIGHT
TZOFFSETFROM:-0500
TZOFFSETTO:-0400
TZNAME:EDT
DTSTART:20220313T070000
END:DAYLIGHT
BEGIN:STANDARD
TZOFFSETFROM:-0400
TZOFFSETTO:-0500
TZNAME:EST
DTSTART:20221106T060000
END:STANDARD
BEGIN:DAYLIGHT
TZOFFSETFROM:-0500
TZOFFSETTO:-0400
TZNAME:EDT
DTSTART:20230312T070000
END:DAYLIGHT
BEGIN:STANDARD
TZOFFSETFROM:-0400
TZOFFSETTO:-0500
TZNAME:EST
DTSTART:20231105T060000
END:STANDARD
BEGIN:DAYLIGHT
TZOFFSETFROM:-0500
TZOFFSETTO:-0400
TZNAME:EDT
DTSTART:20240310T070000
END:DAYLIGHT
BEGIN:STANDARD
TZOFFSETFROM:-0400
TZOFFSETTO:-0500
TZNAME:EST
DTSTART:20241103T060000
END:STANDARD
END:VTIMEZONE
BEGIN:VEVENT
DTSTART;TZID=America/Detroit:20231106T183000
DTEND;TZID=America/Detroit:20231106T210000
DTSTAMP:20260422T145542
CREATED:20231025T165511Z
LAST-MODIFIED:20231025T170844Z
UID:10005059-1699295400-1699304400@crossroads-bible.org
SUMMARY:On Mission | Amiina Hope Gathering
DESCRIPTION:Join Amiina Ministries for a fun-filled\, family-friendly evening full of hope and vision! We are humbled and thrilled about all God is doing through Amiina. We have an effective\, open door of Kingdom work before us\, and as we serve hand-in-hand with Ugandan leaders we can change the narrative for families in Uganda.\nChildcare is available. We will be serving charcuterie and desserts. Our guest speaker is a friend from Uganda who will be sharing about how God is moving in powerful ways.\nWe would be deeply honored to have you join us. We believe strong families transform communities and will have huge eternal impact for generations to come. \nRSVP Here
URL:https://crossroads-bible.org/event/on-mission-amiina-hope-gathering/
LOCATION:Crossroads Bible Church\, 800 Scribner NW\, Grand Rapids\, 49504\, United States
CATEGORIES:Missions
ATTACH;FMTTYPE=image/webp:https://crossroads-bible.org/wp-content/uploads/2023/10/ec96e3_ea670ca7afbc456e961555400aeeb0ffmv2.webp
END:VEVENT
BEGIN:VEVENT
DTSTART;TZID=America/Detroit:20231112T104500
DTEND;TZID=America/Detroit:20231112T123000
DTSTAMP:20260422T145542
CREATED:20231017T193446Z
LAST-MODIFIED:20231102T142130Z
UID:10004970-1699785900-1699792200@crossroads-bible.org
SUMMARY:On Mission Class
DESCRIPTION:We would love to partner with you in exploring how God has uniquely gifted and placed you to live out His Kingdom on your streetcorner and in your sphere of influence! \nThis one-week class is filled with teaching and discussion\, where we try to answer the two questions: ‘Who are you?’ and ‘What are you doing here?’ \nPlease fill out the form below if you’re planning on attending: \nSign Up Here\nTo learn more about On Missions Ministry\, click here.
URL:https://crossroads-bible.org/event/on-mission-class/
LOCATION:Crossroads Upper Room North\, 800 Scribner Ave NW\, Grand Rapids\, MI\, 49504\, United States
CATEGORIES:Missions
ATTACH;FMTTYPE=image/jpeg:https://crossroads-bible.org/wp-content/uploads/2023/09/CR-on-mission-8977-4-scaled-e1694813983933.jpg
ORGANIZER;CN="Brittney Burrell":MAILTO:bburrell@crossroads-bible.org
END:VEVENT
BEGIN:VEVENT
DTSTART;TZID=America/Detroit:20231112T123000
DTEND;TZID=America/Detroit:20231112T140000
DTSTAMP:20260422T145542
CREATED:20231105T041945Z
LAST-MODIFIED:20231105T041958Z
UID:10005120-1699792200-1699797600@crossroads-bible.org
SUMMARY:On Mission | Hope Speaks Luncheon
DESCRIPTION:Join us as we welcome home Ben and Kari David! Ben and Kari are missionaries and founders of Hope Speaks—an amazing organization that physically and spiritually shows the love of Christ to kids in Uganda that have disabilities through speech and physical therapy. At this lunch they’ll be giving us an update about Hope Speaks and how the Kingdom of Heaven is moving in Uganda. \nSign Up Here
URL:https://crossroads-bible.org/event/on-mission-hope-speaks-luncheon/
LOCATION:Crossroads Upper Room\, 800 Scribner Ave NW\, Grand Rapids\, MI\, 49504\, United States
CATEGORIES:Missions
ATTACH;FMTTYPE=image/jpeg:https://crossroads-bible.org/wp-content/uploads/2023/11/185897233_1027211647810222_2803211486825623152_n.jpeg
ORGANIZER;CN="Brittney Burrell":MAILTO:bburrell@crossroads-bible.org
END:VEVENT
END:VCALENDAR