BEGIN:VCALENDAR
VERSION:2.0
PRODID:-//Crossroads Bible Church - ECPv6.15.20//NONSGML v1.0//EN
CALSCALE:GREGORIAN
METHOD:PUBLISH
X-ORIGINAL-URL:https://crossroads-bible.org
X-WR-CALDESC:Events for Crossroads Bible Church
REFRESH-INTERVAL;VALUE=DURATION:PT1H
X-Robots-Tag:noindex
X-PUBLISHED-TTL:PT1H
BEGIN:VTIMEZONE
TZID:America/Detroit
BEGIN:DAYLIGHT
TZOFFSETFROM:-0500
TZOFFSETTO:-0400
TZNAME:EDT
DTSTART:20220313T070000
END:DAYLIGHT
BEGIN:STANDARD
TZOFFSETFROM:-0400
TZOFFSETTO:-0500
TZNAME:EST
DTSTART:20221106T060000
END:STANDARD
BEGIN:DAYLIGHT
TZOFFSETFROM:-0500
TZOFFSETTO:-0400
TZNAME:EDT
DTSTART:20230312T070000
END:DAYLIGHT
BEGIN:STANDARD
TZOFFSETFROM:-0400
TZOFFSETTO:-0500
TZNAME:EST
DTSTART:20231105T060000
END:STANDARD
BEGIN:DAYLIGHT
TZOFFSETFROM:-0500
TZOFFSETTO:-0400
TZNAME:EDT
DTSTART:20240310T070000
END:DAYLIGHT
BEGIN:STANDARD
TZOFFSETFROM:-0400
TZOFFSETTO:-0500
TZNAME:EST
DTSTART:20241103T060000
END:STANDARD
END:VTIMEZONE
BEGIN:VEVENT
DTSTART;TZID=America/Detroit:20231106T183000
DTEND;TZID=America/Detroit:20231106T210000
DTSTAMP:20260422T161513
CREATED:20231025T165511Z
LAST-MODIFIED:20231025T170844Z
UID:10005059-1699295400-1699304400@crossroads-bible.org
SUMMARY:On Mission | Amiina Hope Gathering
DESCRIPTION:Join Amiina Ministries for a fun-filled\, family-friendly evening full of hope and vision! We are humbled and thrilled about all God is doing through Amiina. We have an effective\, open door of Kingdom work before us\, and as we serve hand-in-hand with Ugandan leaders we can change the narrative for families in Uganda.\nChildcare is available. We will be serving charcuterie and desserts. Our guest speaker is a friend from Uganda who will be sharing about how God is moving in powerful ways.\nWe would be deeply honored to have you join us. We believe strong families transform communities and will have huge eternal impact for generations to come. \nRSVP Here
URL:https://crossroads-bible.org/event/on-mission-amiina-hope-gathering/
LOCATION:Crossroads Bible Church\, 800 Scribner NW\, Grand Rapids\, 49504\, United States
CATEGORIES:Missions
ATTACH;FMTTYPE=image/webp:https://crossroads-bible.org/wp-content/uploads/2023/10/ec96e3_ea670ca7afbc456e961555400aeeb0ffmv2.webp
END:VEVENT
END:VCALENDAR