BEGIN:VCALENDAR
VERSION:2.0
PRODID:-//Crossroads Bible Church - ECPv6.15.20//NONSGML v1.0//EN
CALSCALE:GREGORIAN
METHOD:PUBLISH
X-ORIGINAL-URL:https://crossroads-bible.org
X-WR-CALDESC:Events for Crossroads Bible Church
REFRESH-INTERVAL;VALUE=DURATION:PT1H
X-Robots-Tag:noindex
X-PUBLISHED-TTL:PT1H
BEGIN:VTIMEZONE
TZID:America/Detroit
BEGIN:DAYLIGHT
TZOFFSETFROM:-0500
TZOFFSETTO:-0400
TZNAME:EDT
DTSTART:20220313T070000
END:DAYLIGHT
BEGIN:STANDARD
TZOFFSETFROM:-0400
TZOFFSETTO:-0500
TZNAME:EST
DTSTART:20221106T060000
END:STANDARD
BEGIN:DAYLIGHT
TZOFFSETFROM:-0500
TZOFFSETTO:-0400
TZNAME:EDT
DTSTART:20230312T070000
END:DAYLIGHT
BEGIN:STANDARD
TZOFFSETFROM:-0400
TZOFFSETTO:-0500
TZNAME:EST
DTSTART:20231105T060000
END:STANDARD
BEGIN:DAYLIGHT
TZOFFSETFROM:-0500
TZOFFSETTO:-0400
TZNAME:EDT
DTSTART:20240310T070000
END:DAYLIGHT
BEGIN:STANDARD
TZOFFSETFROM:-0400
TZOFFSETTO:-0500
TZNAME:EST
DTSTART:20241103T060000
END:STANDARD
END:VTIMEZONE
BEGIN:VEVENT
DTSTART;TZID=America/Detroit:20231203T080000
DTEND;TZID=America/Detroit:20231203T130000
DTSTAMP:20260422T145948
CREATED:20231109T213546Z
LAST-MODIFIED:20231109T213546Z
UID:10005385-1701590400-1701608400@crossroads-bible.org
SUMMARY:Blood Drive
DESCRIPTION:Help us support local hospitals through our Fall blood drive! Every pint donated can help save up to three lives. \nWe’ll be live-streaming the service in the room\, you can still listen to the gathering while donating! \nRegister here
URL:https://crossroads-bible.org/event/blood-drive/
LOCATION:Crossroads Upper Room North\, 800 Scribner Ave NW\, Grand Rapids\, MI\, 49504\, United States
CATEGORIES:All Church Gathering,Missions
ATTACH;FMTTYPE=image/jpeg:https://crossroads-bible.org/wp-content/uploads/2023/11/7-25_blood-drive.jpg
ORGANIZER;CN="Brittney Burrell":MAILTO:bburrell@crossroads-bible.org
END:VEVENT
BEGIN:VEVENT
DTSTART;TZID=America/Detroit:20231203T123000
DTEND;TZID=America/Detroit:20231203T140000
DTSTAMP:20260422T145948
CREATED:20231114T185615Z
LAST-MODIFIED:20231114T185615Z
UID:10005390-1701606600-1701612000@crossroads-bible.org
SUMMARY:On Mission | B-Less Lunch with Neil Martin
DESCRIPTION:Come and hear the latest news from our friend Neil Martin on the work that B-Less is doing in Oxford and learn a bit more about the B-Less scholars and how their placements are opening doors for the Gospel right in the heart of some very secular academic institutions.
URL:https://crossroads-bible.org/event/on-mission-b-less-lunch-with-neil-martin/
LOCATION:Crossroads Bible Church\, 800 Scribner NW\, Grand Rapids\, 49504\, United States
CATEGORIES:Missions
ATTACH;FMTTYPE=image/jpeg:https://crossroads-bible.org/wp-content/uploads/2023/11/Oxford-103-scaled.jpg
ORGANIZER;CN="Brittney Burrell":MAILTO:bburrell@crossroads-bible.org
END:VEVENT
END:VCALENDAR