BEGIN:VCALENDAR
VERSION:2.0
PRODID:-//Crossroads Bible Church - ECPv6.15.20//NONSGML v1.0//EN
CALSCALE:GREGORIAN
METHOD:PUBLISH
X-WR-CALNAME:Crossroads Bible Church
X-ORIGINAL-URL:https://crossroads-bible.org
X-WR-CALDESC:Events for Crossroads Bible Church
REFRESH-INTERVAL;VALUE=DURATION:PT1H
X-Robots-Tag:noindex
X-PUBLISHED-TTL:PT1H
BEGIN:VTIMEZONE
TZID:America/Detroit
BEGIN:DAYLIGHT
TZOFFSETFROM:-0500
TZOFFSETTO:-0400
TZNAME:EDT
DTSTART:20220313T070000
END:DAYLIGHT
BEGIN:STANDARD
TZOFFSETFROM:-0400
TZOFFSETTO:-0500
TZNAME:EST
DTSTART:20221106T060000
END:STANDARD
BEGIN:DAYLIGHT
TZOFFSETFROM:-0500
TZOFFSETTO:-0400
TZNAME:EDT
DTSTART:20230312T070000
END:DAYLIGHT
BEGIN:STANDARD
TZOFFSETFROM:-0400
TZOFFSETTO:-0500
TZNAME:EST
DTSTART:20231105T060000
END:STANDARD
BEGIN:DAYLIGHT
TZOFFSETFROM:-0500
TZOFFSETTO:-0400
TZNAME:EDT
DTSTART:20240310T070000
END:DAYLIGHT
BEGIN:STANDARD
TZOFFSETFROM:-0400
TZOFFSETTO:-0500
TZNAME:EST
DTSTART:20241103T060000
END:STANDARD
END:VTIMEZONE
BEGIN:VEVENT
DTSTART;TZID=America/Detroit:20231206T190000
DTEND;TZID=America/Detroit:20231206T210000
DTSTAMP:20260422T145538
CREATED:20231114T190358Z
LAST-MODIFIED:20231115T210349Z
UID:10005392-1701889200-1701896400@crossroads-bible.org
SUMMARY:Elective | In a Secular World\, What's Good About the Gospel?
DESCRIPTION:Crossroads’ former Associate Pastor\, Dr. Neil Martin\, has lived and served for the past 10 years in one of the world’s most secular cities – Oxford. In a place where self-determination is the highest value\, and every student is only as good as the last grade they received\, you wouldn’t expect to find much excitement about the gospel. And yet\, Neil and his colleagues have never seen so much spiritual openness. \nCome and find out why surrendering to Jesus and admitting how much we need him makes just as much sense as it ever did\, even when the world changes. \nPlus: desserts from Grand Traverse Pie Company\, real English tea\, and an update on the ministry of B-Less to students in Oxford and beyond.
URL:https://crossroads-bible.org/event/elective-whats-good-about-the-gospel/
LOCATION:Crossroads Upper Room\, 800 Scribner Ave NW\, Grand Rapids\, MI\, 49504\, United States
CATEGORIES:Missions
ATTACH;FMTTYPE=image/jpeg:https://crossroads-bible.org/wp-content/uploads/2023/11/Oxford-103-scaled.jpg
ORGANIZER;CN="Brittney Burrell":MAILTO:bburrell@crossroads-bible.org
END:VEVENT
END:VCALENDAR