BEGIN:VCALENDAR
VERSION:2.0
PRODID:-//Crossroads Bible Church - ECPv6.15.20//NONSGML v1.0//EN
CALSCALE:GREGORIAN
METHOD:PUBLISH
X-WR-CALNAME:Crossroads Bible Church
X-ORIGINAL-URL:https://crossroads-bible.org
X-WR-CALDESC:Events for Crossroads Bible Church
REFRESH-INTERVAL;VALUE=DURATION:PT1H
X-Robots-Tag:noindex
X-PUBLISHED-TTL:PT1H
BEGIN:VTIMEZONE
TZID:America/Detroit
BEGIN:DAYLIGHT
TZOFFSETFROM:-0500
TZOFFSETTO:-0400
TZNAME:EDT
DTSTART:20230312T070000
END:DAYLIGHT
BEGIN:STANDARD
TZOFFSETFROM:-0400
TZOFFSETTO:-0500
TZNAME:EST
DTSTART:20231105T060000
END:STANDARD
BEGIN:DAYLIGHT
TZOFFSETFROM:-0500
TZOFFSETTO:-0400
TZNAME:EDT
DTSTART:20240310T070000
END:DAYLIGHT
BEGIN:STANDARD
TZOFFSETFROM:-0400
TZOFFSETTO:-0500
TZNAME:EST
DTSTART:20241103T060000
END:STANDARD
BEGIN:DAYLIGHT
TZOFFSETFROM:-0500
TZOFFSETTO:-0400
TZNAME:EDT
DTSTART:20250309T070000
END:DAYLIGHT
BEGIN:STANDARD
TZOFFSETFROM:-0400
TZOFFSETTO:-0500
TZNAME:EST
DTSTART:20251102T060000
END:STANDARD
END:VTIMEZONE
BEGIN:VEVENT
DTSTART;VALUE=DATE:20241020
DTEND;VALUE=DATE:20241021
DTSTAMP:20260420T214719
CREATED:20241012T194010Z
LAST-MODIFIED:20241012T194010Z
UID:10007048-1729382400-1729468799@crossroads-bible.org
SUMMARY:Hurricane Relief
DESCRIPTION:The Parchers are going to support churches that are providing hurricane relief to residents in the southern states. \nThey need the following items: \n\nbaby food\nbaby and adult diapers\nwipes\ncleaning supplies\nfeminine hygiene products\ndisposable bottle liners\nnon-perishable foods\nwater and first aid\n\nPlease drop items at Crossroads\, downstairs in new glass conference room. Contact Jessica for more info at 616-591-8053
URL:https://crossroads-bible.org/event/hurricane-relief/2024-10-20/
LOCATION:Crossroads Bible Church\, 800 Scribner NW\, Grand Rapids\, 49504\, United States
CATEGORIES:Missions
ATTACH;FMTTYPE=image/jpeg:https://crossroads-bible.org/wp-content/uploads/2024/10/noah-silliman-i2J9jnvaAbU-unsplash-scaled.jpg
ORGANIZER;CN="Bethany Barber":MAILTO:bbarber@crossroads-bible.org
END:VEVENT
END:VCALENDAR