BEGIN:VCALENDAR
VERSION:2.0
PRODID:-//Crossroads Bible Church - ECPv6.15.20//NONSGML v1.0//EN
CALSCALE:GREGORIAN
METHOD:PUBLISH
X-ORIGINAL-URL:https://crossroads-bible.org
X-WR-CALDESC:Events for Crossroads Bible Church
REFRESH-INTERVAL;VALUE=DURATION:PT1H
X-Robots-Tag:noindex
X-PUBLISHED-TTL:PT1H
BEGIN:VTIMEZONE
TZID:America/Detroit
BEGIN:DAYLIGHT
TZOFFSETFROM:-0500
TZOFFSETTO:-0400
TZNAME:EDT
DTSTART:20230312T070000
END:DAYLIGHT
BEGIN:STANDARD
TZOFFSETFROM:-0400
TZOFFSETTO:-0500
TZNAME:EST
DTSTART:20231105T060000
END:STANDARD
BEGIN:DAYLIGHT
TZOFFSETFROM:-0500
TZOFFSETTO:-0400
TZNAME:EDT
DTSTART:20240310T070000
END:DAYLIGHT
BEGIN:STANDARD
TZOFFSETFROM:-0400
TZOFFSETTO:-0500
TZNAME:EST
DTSTART:20241103T060000
END:STANDARD
BEGIN:DAYLIGHT
TZOFFSETFROM:-0500
TZOFFSETTO:-0400
TZNAME:EDT
DTSTART:20250309T070000
END:DAYLIGHT
BEGIN:STANDARD
TZOFFSETFROM:-0400
TZOFFSETTO:-0500
TZNAME:EST
DTSTART:20251102T060000
END:STANDARD
END:VTIMEZONE
BEGIN:VEVENT
DTSTART;TZID=America/Detroit:20241127T120000
DTEND;TZID=America/Detroit:20241127T140000
DTSTAMP:20260420T202155
CREATED:20240805T194436Z
LAST-MODIFIED:20241112T210529Z
UID:10006584-1732708800-1732716000@crossroads-bible.org
SUMMARY:On Mission | FCA Luncheon
DESCRIPTION:Fellowship of Christian Athletes hosts a luncheon on the last Wednesday of the month that you are welcome to join. Please contact Bruce Oosterhouse with questions before attending.
URL:https://crossroads-bible.org/event/on-mission-fca-luncheon/2024-11-27/
LOCATION:Crossroads Upper Room\, 800 Scribner Ave NW\, Grand Rapids\, MI\, 49504\, United States
CATEGORIES:Missions
ATTACH;FMTTYPE=image/jpeg:https://crossroads-bible.org/wp-content/uploads/2024/08/FCA-397461142_17965611656643015_1985962641566027536_n-2.jpg
END:VEVENT
END:VCALENDAR