BEGIN:VCALENDAR
VERSION:2.0
PRODID:-//Crossroads Bible Church - ECPv6.15.20//NONSGML v1.0//EN
CALSCALE:GREGORIAN
METHOD:PUBLISH
X-ORIGINAL-URL:https://crossroads-bible.org
X-WR-CALDESC:Events for Crossroads Bible Church
REFRESH-INTERVAL;VALUE=DURATION:PT1H
X-Robots-Tag:noindex
X-PUBLISHED-TTL:PT1H
BEGIN:VTIMEZONE
TZID:America/Detroit
BEGIN:DAYLIGHT
TZOFFSETFROM:-0500
TZOFFSETTO:-0400
TZNAME:EDT
DTSTART:20240310T070000
END:DAYLIGHT
BEGIN:STANDARD
TZOFFSETFROM:-0400
TZOFFSETTO:-0500
TZNAME:EST
DTSTART:20241103T060000
END:STANDARD
BEGIN:DAYLIGHT
TZOFFSETFROM:-0500
TZOFFSETTO:-0400
TZNAME:EDT
DTSTART:20250309T070000
END:DAYLIGHT
BEGIN:STANDARD
TZOFFSETFROM:-0400
TZOFFSETTO:-0500
TZNAME:EST
DTSTART:20251102T060000
END:STANDARD
BEGIN:DAYLIGHT
TZOFFSETFROM:-0500
TZOFFSETTO:-0400
TZNAME:EDT
DTSTART:20260308T070000
END:DAYLIGHT
BEGIN:STANDARD
TZOFFSETFROM:-0400
TZOFFSETTO:-0500
TZNAME:EST
DTSTART:20261101T060000
END:STANDARD
END:VTIMEZONE
BEGIN:VEVENT
DTSTART;TZID=America/Detroit:20250112T104500
DTEND;TZID=America/Detroit:20250112T120000
DTSTAMP:20260420T144832
CREATED:20241118T202540Z
LAST-MODIFIED:20241127T153937Z
UID:10007097-1736678700-1736683200@crossroads-bible.org
SUMMARY:On Mission | Resurgence Info Meeting
DESCRIPTION:Bridge Street Ministries is looking to expand Resurgence\, their after school program targeted at GRPS middle schoolers\, to Harrison Park K-8 School and they need lots of support! Come to an informational meeting to see how you can get involved in mentoring and serving middle schoolers at this westside school. \nRSVP Here
URL:https://crossroads-bible.org/event/on-mission-resurgence-info-meeting/
LOCATION:Crossroads Bible Church\, 800 Scribner NW\, Grand Rapids\, 49504\, United States
CATEGORIES:Missions
ATTACH;FMTTYPE=image/jpeg:https://crossroads-bible.org/wp-content/uploads/2024/11/460633575_950154567155849_4242296671521582010_n.jpg
ORGANIZER;CN="Bethany Barber":MAILTO:bbarber@crossroads-bible.org
END:VEVENT
END:VCALENDAR