BEGIN:VCALENDAR
VERSION:2.0
PRODID:-//Crossroads Bible Church - ECPv6.15.20//NONSGML v1.0//EN
CALSCALE:GREGORIAN
METHOD:PUBLISH
X-WR-CALNAME:Crossroads Bible Church
X-ORIGINAL-URL:https://crossroads-bible.org
X-WR-CALDESC:Events for Crossroads Bible Church
REFRESH-INTERVAL;VALUE=DURATION:PT1H
X-Robots-Tag:noindex
X-PUBLISHED-TTL:PT1H
BEGIN:VTIMEZONE
TZID:America/Detroit
BEGIN:DAYLIGHT
TZOFFSETFROM:-0500
TZOFFSETTO:-0400
TZNAME:EDT
DTSTART:20230312T070000
END:DAYLIGHT
BEGIN:STANDARD
TZOFFSETFROM:-0400
TZOFFSETTO:-0500
TZNAME:EST
DTSTART:20231105T060000
END:STANDARD
BEGIN:DAYLIGHT
TZOFFSETFROM:-0500
TZOFFSETTO:-0400
TZNAME:EDT
DTSTART:20240310T070000
END:DAYLIGHT
BEGIN:STANDARD
TZOFFSETFROM:-0400
TZOFFSETTO:-0500
TZNAME:EST
DTSTART:20241103T060000
END:STANDARD
BEGIN:DAYLIGHT
TZOFFSETFROM:-0500
TZOFFSETTO:-0400
TZNAME:EDT
DTSTART:20250309T070000
END:DAYLIGHT
BEGIN:STANDARD
TZOFFSETFROM:-0400
TZOFFSETTO:-0500
TZNAME:EST
DTSTART:20251102T060000
END:STANDARD
END:VTIMEZONE
BEGIN:VEVENT
DTSTART;TZID=America/Detroit:20240709T190000
DTEND;TZID=America/Detroit:20240709T210000
DTSTAMP:20260423T161844
CREATED:20240606T211748Z
LAST-MODIFIED:20240606T211748Z
UID:10005973-1720551600-1720558800@crossroads-bible.org
SUMMARY:Post College Young Adults | Ice Cream Social
DESCRIPTION:Join us for ice cream at Double Dip Depot on Leonard! \nFind us on Facebook or email Gabe for more information! If you would like to listen to the weekly teachings\, please visit The Post on Spotify. \nTo learn more about the Post College Young Adults at Crossroads\, click here.
URL:https://crossroads-bible.org/event/post-college-young-adults-ice-cream-social-2/2024-07-09/
LOCATION:Double Dip Depot\, 3284 Remembrance Rd NW\, Grand Rapids\, MI\, 49534
CATEGORIES:Post-College
ATTACH;FMTTYPE=image/jpeg:https://crossroads-bible.org/wp-content/uploads/2024/06/mark-cruz-Ov0u44CyGdM-unsplash-scaled-e1717708599367.jpg
ORGANIZER;CN="Gabe Hartfield":MAILTO:ghartfield7@gmail.com
END:VEVENT
BEGIN:VEVENT
DTSTART;TZID=America/Detroit:20240728T180000
DTEND;TZID=America/Detroit:20240728T210000
DTSTAMP:20260423T161844
CREATED:20240606T212600Z
LAST-MODIFIED:20240618T153209Z
UID:10005976-1722189600-1722200400@crossroads-bible.org
SUMMARY:PCYA & The Walk | Beach Worship Night
DESCRIPTION:Join us for a combined Young Adults worship night at Lake Michigan. More details to come! \nFor more info\, please email Nathan!
URL:https://crossroads-bible.org/event/pcya-the-walk-beach-worship-night/
CATEGORIES:College,Home,Post-College
ATTACH;FMTTYPE=image/jpeg:https://crossroads-bible.org/wp-content/uploads/2023/09/93-DSC09200-scaled.jpg
ORGANIZER;CN="Nathan English":MAILTO:nenglish@crossroads-bible.org
END:VEVENT
END:VCALENDAR