BEGIN:VCALENDAR
VERSION:2.0
PRODID:-//Crossroads Bible Church - ECPv6.15.20//NONSGML v1.0//EN
CALSCALE:GREGORIAN
METHOD:PUBLISH
X-WR-CALNAME:Crossroads Bible Church
X-ORIGINAL-URL:https://crossroads-bible.org
X-WR-CALDESC:Events for Crossroads Bible Church
REFRESH-INTERVAL;VALUE=DURATION:PT1H
X-Robots-Tag:noindex
X-PUBLISHED-TTL:PT1H
BEGIN:VTIMEZONE
TZID:America/Detroit
BEGIN:DAYLIGHT
TZOFFSETFROM:-0500
TZOFFSETTO:-0400
TZNAME:EDT
DTSTART:20240310T070000
END:DAYLIGHT
BEGIN:STANDARD
TZOFFSETFROM:-0400
TZOFFSETTO:-0500
TZNAME:EST
DTSTART:20241103T060000
END:STANDARD
BEGIN:DAYLIGHT
TZOFFSETFROM:-0500
TZOFFSETTO:-0400
TZNAME:EDT
DTSTART:20250309T070000
END:DAYLIGHT
BEGIN:STANDARD
TZOFFSETFROM:-0400
TZOFFSETTO:-0500
TZNAME:EST
DTSTART:20251102T060000
END:STANDARD
BEGIN:DAYLIGHT
TZOFFSETFROM:-0500
TZOFFSETTO:-0400
TZNAME:EDT
DTSTART:20260308T070000
END:DAYLIGHT
BEGIN:STANDARD
TZOFFSETFROM:-0400
TZOFFSETTO:-0500
TZNAME:EST
DTSTART:20261101T060000
END:STANDARD
END:VTIMEZONE
BEGIN:VEVENT
DTSTART;TZID=America/Detroit:20250603T190000
DTEND;TZID=America/Detroit:20250603T210000
DTSTAMP:20260424T085838
CREATED:20250507T201514Z
LAST-MODIFIED:20250609T160834Z
UID:10008429-1748977200-1748984400@crossroads-bible.org
SUMMARY:The Post | Ice Cream Social
DESCRIPTION:The Post will be meeting at the Double Dip Depot in Walker for ice cream and free mini golf! \nFind us on Facebook or email Chloe for more information. \nTo learn more about The Post\, click here.
URL:https://crossroads-bible.org/event/post-college-young-adults-ice-cream-social-3/2025-06-03/
LOCATION:Double Dip Depot\, 3284 Remembrance Rd NW\, Grand Rapids\, MI\, 49534
CATEGORIES:Post-College
ATTACH;FMTTYPE=image/jpeg:https://crossroads-bible.org/wp-content/uploads/2024/06/mark-cruz-Ov0u44CyGdM-unsplash-scaled-e1717708599367.jpg
ORGANIZER;CN="Chloe Damron":MAILTO:cdamron@crossroads-bible.org
END:VEVENT
BEGIN:VEVENT
DTSTART;TZID=America/Detroit:20250622T160000
DTEND;TZID=America/Detroit:20250622T200000
DTSTAMP:20260424T085838
CREATED:20250507T205524Z
LAST-MODIFIED:20250609T160744Z
UID:10008435-1750608000-1750622400@crossroads-bible.org
SUMMARY:The Walk & The Post | Park Cookout
DESCRIPTION:The Walk and The Post will be meeting at Riverside Park at the Island shelter for a cookout. Bring a snack to share! \nFor more info\, please email Chloe!
URL:https://crossroads-bible.org/event/the-walk-the-post-park-cookout/
LOCATION:Riverside Park\, 2875-3061 Monroe Ave NE\, Grand Rapids\, MI\, 49505
CATEGORIES:College,Home,Post-College
ATTACH;FMTTYPE=image/jpeg:https://crossroads-bible.org/wp-content/uploads/2025/05/IMG_9780.jpg
ORGANIZER;CN="Chloe Damron":MAILTO:cdamron@crossroads-bible.org
END:VEVENT
END:VCALENDAR