BEGIN:VCALENDAR
VERSION:2.0
PRODID:-//Crossroads Bible Church - ECPv6.15.20//NONSGML v1.0//EN
CALSCALE:GREGORIAN
METHOD:PUBLISH
X-WR-CALNAME:Crossroads Bible Church
X-ORIGINAL-URL:https://crossroads-bible.org
X-WR-CALDESC:Events for Crossroads Bible Church
REFRESH-INTERVAL;VALUE=DURATION:PT1H
X-Robots-Tag:noindex
X-PUBLISHED-TTL:PT1H
BEGIN:VTIMEZONE
TZID:America/Detroit
BEGIN:DAYLIGHT
TZOFFSETFROM:-0500
TZOFFSETTO:-0400
TZNAME:EDT
DTSTART:20240310T070000
END:DAYLIGHT
BEGIN:STANDARD
TZOFFSETFROM:-0400
TZOFFSETTO:-0500
TZNAME:EST
DTSTART:20241103T060000
END:STANDARD
BEGIN:DAYLIGHT
TZOFFSETFROM:-0500
TZOFFSETTO:-0400
TZNAME:EDT
DTSTART:20250309T070000
END:DAYLIGHT
BEGIN:STANDARD
TZOFFSETFROM:-0400
TZOFFSETTO:-0500
TZNAME:EST
DTSTART:20251102T060000
END:STANDARD
BEGIN:DAYLIGHT
TZOFFSETFROM:-0500
TZOFFSETTO:-0400
TZNAME:EDT
DTSTART:20260308T070000
END:DAYLIGHT
BEGIN:STANDARD
TZOFFSETFROM:-0400
TZOFFSETTO:-0500
TZNAME:EST
DTSTART:20261101T060000
END:STANDARD
END:VTIMEZONE
BEGIN:VEVENT
DTSTART;TZID=America/Detroit:20250805T190000
DTEND;TZID=America/Detroit:20250805T210000
DTSTAMP:20260421T193614
CREATED:20250507T201514Z
LAST-MODIFIED:20250609T160834Z
UID:10008442-1754420400-1754427600@crossroads-bible.org
SUMMARY:The Post | Ice Cream Social
DESCRIPTION:The Post will be meeting at the Double Dip Depot in Walker for ice cream and free mini golf! \nFind us on Facebook or email Chloe for more information. \nTo learn more about The Post\, click here.
URL:https://crossroads-bible.org/event/post-college-young-adults-ice-cream-social-3/2025-08-05/
LOCATION:Double Dip Depot\, 3284 Remembrance Rd NW\, Grand Rapids\, MI\, 49534
CATEGORIES:Post-College
ATTACH;FMTTYPE=image/jpeg:https://crossroads-bible.org/wp-content/uploads/2024/06/mark-cruz-Ov0u44CyGdM-unsplash-scaled-e1717708599367.jpg
ORGANIZER;CN="Chloe Damron":MAILTO:cdamron@crossroads-bible.org
END:VEVENT
BEGIN:VEVENT
DTSTART;TZID=America/Detroit:20250817T084500
DTEND;TZID=America/Detroit:20250817T094500
DTSTAMP:20260421T193615
CREATED:20250811T131936Z
LAST-MODIFIED:20250811T131937Z
UID:10008735-1755420300-1755423900@crossroads-bible.org
SUMMARY:Premarital Orientation
DESCRIPTION:If you are engaged and interested in learning more about the premarital process at Crossroads\, please join us at this orientation. You will hear about our heart for marriage and get your questions answered. Premarital mentoring is available to any couple who call Crossroads home\, whether you are requesting a Crossroads’ pastor to marry you or not. \nRead more about our premarital support here. If you have questions\, please email Jean. \nSign Up Here
URL:https://crossroads-bible.org/event/premarital-orientation-5-2/
LOCATION:Crossroads Upper Room South\, 800 Scribner Ave NW\, Grand Rapids\, MI\, 49504\, United States
CATEGORIES:College,Marriage,Post-College
ATTACH;FMTTYPE=image/jpeg:https://crossroads-bible.org/wp-content/uploads/2023/11/shelby-deeter-XlBjdtRqK8-unsplash-scaled.jpg
ORGANIZER;CN="Jean Ballance":MAILTO:jballance@crossroads-bible.org
END:VEVENT
BEGIN:VEVENT
DTSTART;TZID=America/Detroit:20250822T173000
DTEND;TZID=America/Detroit:20250822T213000
DTSTAMP:20260421T193615
CREATED:20250507T212216Z
LAST-MODIFIED:20250609T161238Z
UID:10008443-1755883800-1755898200@crossroads-bible.org
SUMMARY:The Post | Whitecaps Game
DESCRIPTION:The Post will be heading to the LMCU ballpark to hang out and watch the Whitecaps! Our summer events are a great chance to enjoy fellowship and community together as we lead up to our regular fall schedule.\nRSVP by August 4th to buy tickets.\nRSVP Here\nEmail Chloe for more info.
URL:https://crossroads-bible.org/event/the-post-whitecaps-game/
LOCATION:LMCU Ballpark\, 4500 W River Dr NE\, Comstock Park\, MI\, 49321
CATEGORIES:Post-College
ORGANIZER;CN="Chloe Damron":MAILTO:cdamron@crossroads-bible.org
END:VEVENT
END:VCALENDAR