BEGIN:VCALENDAR
VERSION:2.0
PRODID:-//Crossroads Bible Church - ECPv6.15.20//NONSGML v1.0//EN
CALSCALE:GREGORIAN
METHOD:PUBLISH
X-WR-CALNAME:Crossroads Bible Church
X-ORIGINAL-URL:https://crossroads-bible.org
X-WR-CALDESC:Events for Crossroads Bible Church
REFRESH-INTERVAL;VALUE=DURATION:PT1H
X-Robots-Tag:noindex
X-PUBLISHED-TTL:PT1H
BEGIN:VTIMEZONE
TZID:America/Detroit
BEGIN:DAYLIGHT
TZOFFSETFROM:-0500
TZOFFSETTO:-0400
TZNAME:EDT
DTSTART:20240310T070000
END:DAYLIGHT
BEGIN:STANDARD
TZOFFSETFROM:-0400
TZOFFSETTO:-0500
TZNAME:EST
DTSTART:20241103T060000
END:STANDARD
BEGIN:DAYLIGHT
TZOFFSETFROM:-0500
TZOFFSETTO:-0400
TZNAME:EDT
DTSTART:20250309T070000
END:DAYLIGHT
BEGIN:STANDARD
TZOFFSETFROM:-0400
TZOFFSETTO:-0500
TZNAME:EST
DTSTART:20251102T060000
END:STANDARD
BEGIN:DAYLIGHT
TZOFFSETFROM:-0500
TZOFFSETTO:-0400
TZNAME:EDT
DTSTART:20260308T070000
END:DAYLIGHT
BEGIN:STANDARD
TZOFFSETFROM:-0400
TZOFFSETTO:-0500
TZNAME:EST
DTSTART:20261101T060000
END:STANDARD
END:VTIMEZONE
BEGIN:VEVENT
DTSTART;TZID=America/Detroit:20251025T180000
DTEND;TZID=America/Detroit:20251025T200000
DTSTAMP:20260421T175236
CREATED:20250923T140528Z
LAST-MODIFIED:20251023T123826Z
UID:10009415-1761415200-1761422400@crossroads-bible.org
SUMMARY:Men's Fall Cookout & Bonfire
DESCRIPTION:We’re getting the guys of Crossroads together for a night of connection\, real talk\, and encouragement — and you’re invited! \nWhether you’ve been to a Men’s Event before\, or this is your first time\, this will be a relaxed space to hang out and meet some guys\, share a meal\, grow in faith\, and support one another. There will be awesome food\, a time of sharing and challenge from Pastor Rod\, and time to just enjoy the brotherhood around the fire. \nThe time of sharing and challenge from Rod is not a sermon or an extended teaching\, he is excited just to come and share his story of how God has met him in the ups and downs of his life\, with the hopes that his story might connect with yours as we all seek to trust God through the seasons of life. \nBring a friend. Bring your story. Just show up. \nLet us know if you’re coming so we can plan for food and please bring a camp chair with you and dress appropriately. \nRSVP
URL:https://crossroads-bible.org/event/mens-bonfire/
LOCATION:Men’s Fall Cookout & Bonfire\, 8950 6 Mile Rd\, Rockford\, 49341
CATEGORIES:Men
ATTACH;FMTTYPE=image/jpeg:https://crossroads-bible.org/wp-content/uploads/2023/09/fire2-scaled.jpg
ORGANIZER;CN="Matt Kenney":MAILTO:mkenney@crossroads-bible.org
END:VEVENT
END:VCALENDAR